Workbook
Name ___INDEX_SHEET___ASAP_Utilities: #REF!
Name ___INDEX_SHEET___ASAP_Utilities: #REF!
Name POWER_USER_EXCEL_MAP_3C575DFB_385D_4B6B_BA1A_73565D332024: #REF!

Sheet TOC
B8: TRANSPORT POLICY
B9: Subcategory | C9: Policy/Target/Instrument | D9: ATO CODE | E9: Scope | F9: Mode | G9: Sector | H9: Sheet
B10: Vision Statements (VIS) | C10: Development Vision Statement | D10: POL-VIS-001 | E10: National | F10: NA | G10: NA | H10: POL-VIS-001
C11: Transport Vision Statement | D11: POL-VIS-002 | E11: National | F11: NA | G11: NA | H11: POL-VIS-002
B12: Transport Policies (POL) | C12: Transport Policy Overview | D12: POL-POL-001 | E12: National | F12: NA | G12: NA | H12: POL-POL-001
C13: Transport Policy Documents | D13: POL-POL-002 | E13: National | F13: NA | G13: NA | H13: POL-POL-002(1)
H14: POL-POL-002(2)
C15: Road Policy Documents | D15: POL-POL-003 | E15: National | F15: Road | G15: Combined | H15: POL-POL-003
C16: Logistics Policy Documents | D16: POL-POL-004 | E16: National | F16: All Modes | G16: Freight | H16: POL-POL-004
C17: Automotive Policy Documents | D17: POL-POL-005 | E17: National | F17: Road | G17: NA | H17: POL-POL-005
C18: Rail Policy Documents | D18: POL-POL-006 | E18: National | F18: Rail | G18: Combined | H18: POL-POL-006
B19: Transport Targets (TAR) | C19: Transport Targets Overview | D19: POL-TAR-001 | E19: National | F19: NA | G19: NA | H19: POL-TAR-001
C20: Road Expansion Targets | D20: POL-TAR-002 | E20: National | F20: Road | G20: Combined | H20: POL-TAR-002
C21: Road Maintenance Targets | D21: POL-TAR-003 | E21: National | F21: Road | G21: NA | H21: POL-TAR-003
C22: Rail Targets | D22: POL-TAR-004 | E22: National | F22: Rail | G22: Combined | H22: POL-TAR-004
C23: ICT Targets | D23: POL-TAR-005 | E23: National | F23: NA | G23: NA | H23: POL-TAR-005
C24: Road Safety Targets | D24: POL-TAR-006 | E24: National | F24: Road | G24: Passenger | H24: POL-TAR-006
C25: Air Pollution Targets | D25: POL-TAR-007 | E25: National | F25: All Modes | G25: Combined | H25: POL-TAR-007
C26: Climate Change Targets | D26: POL-TAR-008 | E26: National | F26: All Modes | G26: Combined | H26: POL-TAR-008
C27: E-mobility Targets | D27: POL-TAR-009 | E27: National | F27: NA | G27: NA | H27: POL-TAR-009
C28: Mode Share Targets | D28: POL-TAR-010 | E28: National | F28: All Modes | G28: Combined | H28: POL-TAR-010
C29: Other Targets | D29: POL-TAR-011 | E29: National | F29: NA | G29: NA | H29: POL-TAR-011
B30: Transport Institutions (INS) | C30: Transport Ministry | D30: POL-INS-001 | E30: National | F30: NA | G30: NA | H30: POL-INS-001
C31: Special Institutional Structures | D31: POL-INS-002 | E31: National | F31: NA | G31: NA | H31: POL-INS-002
C32: Minister of Transport | D32: POL-INS-003 | E32: National | F32: NA | G32: NA | H32: POL-INS-003
C33: Vertical Coordination | D33: POL-INS-004 | E33: National | F33: NA | G33: NA | H33: POL-INS-004
B34: Policy Instruments (INT) | C34: Existence of seatbelt law | D34: POL-INT-001 | E34: National | F34: Road | G34: Combined | H34: POL-INT-001
C35: Existence of helmet law | D35: POL-INT-002 | E35: National | F35: Road | G35: Passenger | H35: POL-INT-002
C36: Existence of helmet law by occupants | D36: POL-INT-003 | E36: National | F36: Road | G36: Passenger | H36: POL-INT-003
C37: Existence of speed limit | D37: POL-INT-004 | E37: National | F37: Road | G37: Combined | H37: POL-INT-004
C38: Maximum speed limit | D38: POL-INT-005 | E38: Urban, Rural | F38: Road | G38: Combined | H38: POL-INT-005
C39: Alcohol limit | D39: POL-INT-006 | E39: National | F39: Road | G39: Combined | H39: POL-INT-006
C40: Existence of drink-driving law | D40: POL-INT-007 | E40: National | F40: Road | G40: Combined | H40: POL-INT-007
C41: Existence of national child-restraint law | D41: POL-INT-008 | E41: National | F41: Road | G41: Combined | H41: POL-INT-008
C42: Fuel Economy Standards | D42: POL-INT-009 | E42: National | F42: Road | G42: Combined | H42: POL-INT-009
C43: Sulfur level standards - diesel | D43: POL-INT-010 | E43: National | F43: Road | G43: Combined | H43: POL-INT-010
C44: Sulfur level standards - petrol | D44: POL-INT-011 | E44: National | F44: Road | G44: Combined | H44: POL-INT-011
C45: Biodiesel mandate | D45: POL-INT-012 | E45: National | F45: Road | G45: Combined | H45: POL-INT-012
C46: Ethanol mandate | D46: POL-INT-013 | E46: National | F46: Road | G46: Combined | H46: POL-INT-013
... C50: Fossil Fuel Subsidies (in absolute numbers) | D50: POL-INT-017 | E50: National | F50: NA | G50: Combined | H50: POL-INT-017
...

Sheet POL-VIS-001
A1: Indicator | B1: Development Vision Statement
A2: Indicator ATO Code | B2: POL-VIS-001
A3: Description | B3: Vision statements from national development policy documents. Economy and sustainability score calculated from keywords found in the vision statement. See footnote for methodology.
A4: Scope | B4: National
A5: Mode | B5: NA
A6: Sector | B6: NA
B8: |<< Table of Contents
A10: Code | B10: ADB members, plus Iran and Russia | C10: Vision statement | D10: Target Year | E10: Source | F10: URL
A11: AFG | B11: Afghanistan | C11: Afghanistan will be A society of hope and prosperity based on a strong, private-sector led market economy, social equity, and environmental sustainability. | D11: 2020 | E11: Afghanistan National Development Strategy (ANDS) (p. i) | F11: http://www.af.undp.org/content/dam/afghanistan/docs/ANDS_Full_Eng.pdf
C12: Vision for progressing self-reliance, economic growth, and peace | D12: 2025 | E12: Afghanistan National Peace and Development Framework (ANPDF II) 2021 to 2025 (p.1) | F12: https://mof.gov.af/sites/default/files/2020-12/ANPDF%20II-%20English%20V4%2C%2021Nov%2C%20clean%20%20version%20%283%29%20%282%29-min.pdf
A13: ARM | B13: Armenia | C13: Reduction of poverty by 2021 to the extent that poverty will not be a problem of economic development, and extreme poverty will be totally eliminated and will no longer be a significant social phenomenon | D13: 2025 | E13: Armenia Development Strategy for 2014‐2025 (p.10) | F13: https://policy.asiapacificenergy.org/sites/default/files/Development%20Strategy%20of%20the%20Republic%20of%20Armenia%20for%202014-2025_ENG.pdf
C14: Ensuring accelerated human development, as a result of which in a few years the country should have moved from the group of countries with average human development to the group of countries with high level of human development | D14: 2025 | E14: Armenia Development Strategy for 2014‐2025 (p.10) | F14: https://policy.asiapacificenergy.org/sites/default/files/Development%20Strategy%20of%20the%20Republic%20of%20Armenia%20for%202014-2025_ENG.pdf
A15: AUS | B15: Australia | C15: Great Cities. Strong Regions. Connecting Australians. | D15: 2024 | E15: Department of Infrastructure, Transport, Regional Development, and Communications Plan (p.2) | F15: https://www.infrastructure.gov.au/department/about/files/Corporate-plan-2019-20.pdf
A16: AZE | B16: Azerbaijan | C16: Sustainable economic growth and high social welfare, effective state management and supremacy of the law, the full ensuring of all human rights and freedoms and the active status of the civil society in the country’s public life | D16: 2020 | E16: Azerbaijan – 2020: Outlook for the future (p.9) | F16: https://president.az/files/future_en.pdf
A17: BGD | B17: Bangladesh | C17: Vision 2041 seeks to eliminate extreme poverty and reach Upper Middle-Income Country (UMIC) status by 2031, and High-Income Country (HIC) status by 2041 with poverty approaching extinction. | D17: 2041 | E17: Making Vision 2041 a Reality Perspective Plan Of Bangladesh 2021-2041 (p.i) | F17: http://oldweb.lged.gov.bd/UploadedDocument/UnitPublication/1/1049/vision%202021-2041.pdf
A18: BTN | B18: Bhutan | C18: A Vision for Peace, Prosperity and Happiness | D18: 2020 | E18: Bhutan Vision 2020 (p.0)) | F18: https://www.greengrowthknowledge.org/sites/default/files/downloads/policy-database/Bhutan%20Vision%202020%20I.pdf
C19: Just, Harmonious and Sustainable Society through enhanced Decentralisation | D19: 2023 | E19: 12th FYP (2018-23) (p.xii) | F19: https://www.gnhc.gov.bt/en/wp-content/uploads/2019/05/12FYP_VOL1_12JUN19.pdf
C20: Promotion of regionally balanced development and reduction of disparity between Urban and Rural Areas; and Realisation of alternative Socio-Economy | D20: 2030 | E20: The Project for Formulation of Comprehensive Development Plan for Bhutan 2030 Vol. 1 - Summary (p. EX2) | F20: https://www.gnhc.gov.bt/en/wp-content/uploads/2019/11/EIJR19080-CNDP-Vol1_Summary.pdf
A21: BRN | B21: Brunei Darussalam | C21: Increased Non-Oil and Gas Sector Output as Catalysts for Economic Growth | D21: 2023 | E21: Eleventh National Development Plan (2018-2023) Brunei Darussalam, p.30 | F21: http://www.deps.gov.bn/DEPD%20Documents%20Library/NDP/NDP11_Eng.pdf
C22: To be recognized around the world for the achievements of its people who are educated and highly skilled in accordance with the highest international standards; the high quality of like among the top 10 countries in the world; and an economy that is both dynamic and sustainable with a Gross Domestic Product (GDP) that is among the top 10 countries in the world. | D22: 2035 | E22: Wawasan Brunei 2035 (online) | F22: https://www.gov.bn/SitePages/Wawasan%20Brunei%202035.aspx
A23: KHM | B23: Cambodia | C23: Firstly, striving forward with firm belief to fully achieve sustainable development goals; and secondly, creating necessary pre-conditions and environment conducive for laying the strong foundation to become an upper middle-income country by 2030 and for in-depth transformation of Cambodia into a high-income country by 2050. | D23: 2023 | E23: Rectangular Strategy Phase IV, p.43 | F23: http://cnv.org.kh/wp-content/uploads/2012/10/Rectangular-Strategy-Phase-IV-of-the-Royal-Government-of-Cambodia-of-the-Sixth-Legislature-of-the-National-Assembly-2018-2023.pdf
C24: To develop sustainable economy, together with environmental, social and cultural sustainability for poverty alleviation | D24: 2023 | E24: National Strategic Plan on Green Growth 2013-2030 (p.2) | F24: https://policy.asiapacificenergy.org/sites/default/files/National-Strategy-Plan-on-Green-Growth-2013-2030-Cambodia.pdf
A25: CHN | B25: People's Republic of China | C25: To expand the state’s role in the economy and advance national economic security interests; use market restrictions and its One Belt, One Road global networks to foster Chinese-controlled supply chains; and sharpen the use of antitrust, intellectual property (IP), and standards tools to advance industrial policies. | D25: 2025 | E25: China’s 14th Five-Year Plan: A First Look (p.1) | F25: https://crsreports.congress.gov/product/pdf/IF/IF11684
C26: Building a Modern, Harmonious, and Creative Society | D26: 2030 | E26: China 2030 (p.1) | F26: https://www.chinafile.com/china-2030-building-modern-harmonious-and-creative-society
A27: COK | B27: Cook Islands | C27: To build a dynamic, prosperous and inclusive economic future for Cook Islanders, that is in harmony with our culture and environment | D27: 2030 | E27: Cook Islands Economic Development Strategy 2030, Ministry of Finance and Economic Management (Jan 2021) (p.2) | F27: http://www.mfem.gov.ck/images/ECON/1-EDS_Final_for-publication_Optimized.pdf
C28: To enjoy the highest quality of life consistent with the aspirations of our people, and in harmony with our culture and environment | D28: 2023 | E28: National Sustainable Development Plan (Jan. 2016)(p.8) | F28: https://www.theprif.org/sites/default/files/2020-08/Cook%20Islands%20NSDS%202016%20to%202020.pdf
A29: FJI | B29: Fiji | C29: Transforming Fiji: towards an even more progressive, vibrant and inclusive society. | D29: 2036 | E29: 5-Year & 20-Year National Development Plan, Ministry of Economy, (Nov 2017) (p.2) | F29: https://www.fiji.gov.fj/getattachment/15b0ba03-825e-47f7-bf69-094ad33004dd/5-Year-20-Year-NATIONAL-DEVELOPMENT-PLAN.aspx
A30: GEO | B30: Georgia | C30: Ensure fast and efficient economic growth driven by development of real (production) sector of the economy, which will resolve economic problems that exist in the country, create jobs and reduce poverty | D30: 2020 | E30: Social-economic Development Strategy of Georgia "Georgia 2020" (p.37) | F30: https://policy.asiapacificenergy.org/sites/default/files/Georgia%202020_ENG.pdf
C31: Ensure rational use of natural resources, environmental safety and sustainability and avoid natural disasters during economic development | D31: 2020 | E31: Social-economic Development Strategy of Georgia 2020 (p.37) | F31: https://policy.asiapacificenergy.org/sites/default/files/Georgia%202020_ENG.pdf
A32: HKG | B32: Hong Kong | C32: To become a liveable, competitive and sustainable “Asia’s World City”. | D32: 2030 | E32: Hong Kong 2030+, p.20 | F32: https://www.hk2030plus.hk/document/2030+Booklet_Eng.pdf
A33: IND | B33: India | C33: Transform India into a prosperous, highly educated, healthy, secure, corruption-free, energy-abundant, environmentally clean and globally influential nation | D33: 2032 | E33: India 2031-32 (ppt) (p.6) | F33: https://niti.gov.in/writereaddata/files/new_initiatives/Revised_Presentation.pdf
C34: New India will provide a solid foundation for clean, inclusive, sustained and sustainable growth for the next three decades. | D34: 2022 | E34: Strategy for New India @75: 2022 (p.V) | F34: https://niti.gov.in/writereaddata/files/Strategy_for_New_India.pdf
C35: To allow our cities to evolve into an urban form that is best suited for the unique geography of their locations and is best placed to support the main social and economic activities that take place in the city | D35: NA | E35: National Urban Transport Policy (p.2) | F35: http://urbantransport.kar.gov.in/National%20Urban%20TransportPolicy.pdf
A36: IDN | B36: Indonesia | C36: Indonesia that is self-reliant, advanced, just, And prosperous | D36: 2025 | E36: Long-Term National Development Plan of 2005-2025, p. 45 | F36: https://www.bappenas.go.id/files/6715/3173/4665/RPJPN_2005-2025.pdf
A37: IRN | B37: Iran (Islamic Republic of) | C37: A developed country, in first place in the region in the realms of economy, knowledge, technology; with an Islamic and revolutionary identity, an inspiration for the world; and with productive and influential interaction in International relations | D37: 2025 | E37: The 20-Year National Vision (online) | F37: https://irandataportal.syr.edu/20-year-national-vision
A38: JPN | B38: Japan | C38: Overcoming population decline and revitalizing local economies | D38: 2060 | E38: Japan’s Long-Term Vision and Comprehensive Strategy, Cabinet Secretariat (Dec. 2014) (online) | F38: https://japan.kantei.go.jp/98_abe/actions/201912/_00030.html
C39: Japan will establish itself as a nation of dignity and will build Asian trust. | D39: 2050 | E39: Japan Vision 2050: Principles of Strategic Science and Technology Policy Toward 2020, Science Council of Japan, (Apr 2005) (p.2) | F39: http://www.scj.go.jp/en/vision2050.pdf
A40: KAZ | B40: Kazakhstan | C40: To be among the top 30 global economies by 2050 through sustainable domestic development, political cooperation with peace- and prosperity-seeking nations, digitalization, civil and social modernization and national pride | D40: 2050 | E40: Kazakhstan 2050 (online) | F40: https://kazakhstan2050.com
A41: KIR | B41: Kiribati | C41: To become a wealthy, healthy and peaceful nation with the people at the center of it all | D41: 2036 | E41: Kiribati 20-Year Vision 2016-2036 KV20 Ministry of Finance and Economic Development (Oct 2017) (p.6) | F41: http://www.mfed.gov.ki/sites/default/files/KV20%20VISION.pdf
A42: KGZ | B42: Kyrgyz Republic | C42: Strong, self-sufficient, developed state with the individual in the center as the highest value along with his life, health, rights and freedoms and with the most favorable environment for him. | D42: 2040 | E42: National Development Strategy of the Kyrgyz Republic 2018-2040 (p.7) | F42: https://policy.thinkbluedata.com/sites/default/files/National%20Development%20Strategy%20of%20the%20Kyrgyz%20Republic%20for%202018-2040%20%28EN%29.pdf
...

Sheet POL-VIS-002
A1: Indicator | B1: Transport Vision Statement
A2: Indicator ATO Code | B2: POL-VIS-002
A3: Description | B3: Vision statements from transport policy documents. Economy and sustainability score calculated from keywords found in the vision statement. See footnote for methodology.
A4: Scope | B4: National
A5: Mode | B5: NA
A6: Sector | B6: NA
B8: |<< Table of Contents
A10: Code | B10: ADB members, plus Iran and Russia | C10: Vision statement | D10: Target Year | E10: Source | F10: URL
A11: AFG | B11: Afghanistan | C11: To foster the capacity of transport infrastructure of Afghanistan at the quality that can serve as transport hub for the region. | D11: 2036 | E11: Afghanistan Transport Sector Master Plan Update (2017–2036) (p.vi) | F11: https://www.adb.org/sites/default/files/institutional-document/327561/afg-transport-plan-2017-2036.pdf
C12: To promote and enable high-quality, city-regional public transport systems, integrated non-motorised transport networks and improved walkability; including for youth and women. | D12: 2025 | E12: Urban National Priority Programme (U-NPP) 2016-2025 (p.37) | F12: http://policymof.gov.af/home/urban-national-priority-programme/
A13: ARM | B13: Armenia | C13: Ensure a citizen's right to free movement, accessibility and competitiveness of transportation, goods and services within the transport sector, through the use of sustainably developing transport infrastructures and provided services, as well as to increase service quality and transport safety through sustainable development of transport infrastructures and provided services in the transport sector | D13: 2022 | E13: Government Program of the Republic of Armenia 2017-2022 (p.83) | F13: https://www.gov.am/files/docs/2219.pdf
A14: AUS | B14: Australia | C14: Regional Australia is serviced by high-quality and safe land transport infrastructure that connects communities with markets and new opportunities, and enables safe journeys from home, to work and across the country. | D14: 2030 | E14: Regions 2030 (p.12) | F14: https://www.regional.gov.au/regional/publications/files/regions-2030.pdf
C15: A land transport system that improves the living standards of all Australians | D15: 2023 | E15: National Transport Comission Corporate Plan 2019-2023 (p.5) | F15: https://www.ntc.gov.au/sites/default/files/assets/files/NTC-Corporate-Plan-2019-2023.pdf
C16: To support an integrated policy approach by governments to the development and adoption of emerging transport technologies, in order to improve transport safety, efficiency, sustainability and accessibility | D16: 2023 | E16: National Policy Framework for Land Transport Technology (online) | F16: https://www.infrastructure.gov.au/transport/land-transport-technology/national-policy-framework-Land-transport-technology.aspx#:~:text=The%20Policy%20Framework's%20objective%20is,%2C%20efficiency%2C%20sustainability%20and%20accessibility.
A17: AZE | B17: Azerbaijan | C17: NA
A18: BGD | B18: Bangladesh | C18: Focus on introducing a time saving electrical Urban Mass Transit / Metro Rail Network to reduce urban traffic congestion and improve the natural environment; Strengthening management capabilities and efficiency of public transport authorities. | D18: 2041 | E18: Making Vision 2041 a Reality Perspective Plan Of Bangladesh 2021-2041 (Pg. i) | F18: http://oldweb.lged.gov.bd/UploadedDocument/UnitPublication/1/1049/vision%202021-2041.pdf
A19: BTN | B19: Bhutan | C19: To increase safe, reliable and affordable surface and air transport, enhance access to sustainable, green and inclusive public transport, improve access to reliable and affordable ICT and media services, improve effective and efficient public service delivery, and to keep culture and tradition alive through ICT and media. | D19: 2023 | E19: 12th FYP (2018-23) (p.193) | F19: https://www.gnhc.gov.bt/en/wp-content/uploads/2019/05/12FYP_VOL1_12JUN19.pdf
A20: BRN | B20: Brunei Darussalam | C20: Ensuring Sustainability of Transport and Infocommunications Sectors | D20: 2025 | E20: Strategic Plan for Ministry of Transport and Infocommunications, p.18 | F20: http://www.mtic.gov.bn/MTIC2025/documents/MTIC_2025-Strategic-Plan_FINAL.pdf
C21: An integrated, safe multi-modal land transport system which offers choice for all and supports the sustained and sustainable economic development of Brunei Darussalam. | D21: 2035 | E21: Roadmap and Draft National Masterplan for a Sustainable Land Transportation System for Brunei Darussalam, p.45 | F21: http://www.mtic.gov.bn/Resources/LAND%20TRANSPORT%20MASTER%20PLAN%20-%20Executive%20Summary.pdf
A22: KHM | B22: Cambodia | C22: To develop the economy and improve the living standards of the people based on the principles of free market economy and social equity. | D22: NA | E22: Ministry of Public Works and Transport Vision (online) | F22: https://www.mpwt.gov.kh/en/about-us/mission-and-vision
A23: CHN | B23: People's Republic of China | C23: Livability achieved through connectivity, strategic development corridors, and efficient transport options | D23: 2030 | E23: China 2030 (p.263) | F23: https://assets.documentcloud.org/documents/696883/world-bank-china-2030.pdf
C24: By 2035, a modern and high-quality national comprehensive three-dimensional transportation network that is convenient and smooth, economical, efficient, green, intensive, intelligent, advanced, safe and reliable will be basically completed, achieving international and domestic interconnection, three-dimensional access to major cities across the country, and effective coverage of county-level nodes, with strong support "National 123 travel traffic circle" (1 hour commute in metropolitan areas, 2 hours access to urban agglomerations, 3 hours coverage of major cities across the country) and "Global 123 Express Cargo Circle" (1 day domestic delivery, 2 days delivery to neighboring countries, Delivered to major cities in the world within 3 days). | D24: 2035 | E24: National Comprehensive Three-dimensional Transportation Network Planning Outline 2021 to 2035 (p.0) | F24: http://www.gov.cn/zhengce/2021-02/24/content_5588654.htm
A25: COK | B25: Cook Islands | C25: To ensure premier infrastructure development to meet the needs and aspirations of the people of the Cook Islands | D25: 2021 | E25: Infrastructure Cook Islands Strategic Plan 2016-2021 (p.ii) | F25: http://ici.gov.ck/sites/default/files/downloads/ICI-0001_Strategic%20Plan_WEB.pdf
C26: A safer Cook Islands road system, increasingly free of death, serious injury and disability | D26: 2020 | E26: Cook Islands Road Safety Strategy 2016-2020 (p.11) | F26: https://www.health.gov.ck/wp-content/uploads/2020/06/CookIslandsRoadSafetyStrategy2016.pdf
A27: FJI | B27: Fiji | C27: Achieving higher economic growth and prosperity for Fiji through better quality advises and service delivery in the areas of sustainable infrastructures and dynamic transport systems; clean affordable energy sources and technically advance meteorological and hydrological products and services | D27: 2018 | E27: Ministry of Infrastructure and Transport Vision (p.4) | F27: http://www.parliament.gov.fj/wp-content/uploads/2020/07/Ministry-of-Infrastructure-and-Transport-2016%EF%80%A22017-Consolidated-Annual-Report.pdf
A28: GEO | B28: Georgia | C28: Develop the country into a regional transport and logistics corridor for trade between Europe and Asia | D28: 2023 | E28: Georgia 2019–2023 Developing Caucasus’s Gateway to the World (p.5) | F28: https://www.adb.org/sites/default/files/institutional-document/521601/cps-geo-2019-2023.pdf
A29: HKG | B29: Hong Kong, China | C29: We will provide the world's best transport system which is safe, reliable, efficient, environmentally friendly and satisfying to both users and operators. | D29: NA | E29: Transport Department Vision | F29: https://www.td.gov.hk/en/about_us/vision_mission_values/index.html
A30: IND | B30: India | C30: To drive economic growth and trade competitiveness of the country through a truly integrated, seamless, efficient, reliable and cost effective logistics network, leveraging best in class technology, processes and skilled manpower | D30: NA | E30: Draft Discussion Document – (Logistics policy) (p.2) | F30: https://static.mygov.in/rest/s3fs-public/mygov_154953859051553221.pdf
C31: To provide a long-term, stable and consistent policy regime and to have a clear roadmap for the automotive industry, making India a globally competitive auto R&D and manufacturing hub and achieving the targeted objectives of green mobility | D31: NA | E31: National Auto Policy – Draft (p.17) | F31: https://auto.economictimes.indiatimes.com/ajax_files/download_file.php?doc_path=/files/retail_files/reports/data_file-nati-1519397333.pdf&fromGroupUpdate=Y
A32: IDN | B32: Indonesia | C32: Development of transportation is directed at supporting economic, social, and cultural, and natural environment activities and is carried out through the regional development approach so as to attain balance and equity in development among regions; establishing and consolidating national unity for strengthening national defence and security; and forming spatial structure in the context of realizing the targets of national development. | D32: 2025 | E32: Long-Term National Development Plan of 2005-2025, p. 63 | F32: https://www.bappenas.go.id/files/6715/3173/4665/RPJPN_2005-2025.pdf
C33: The realization of reliable, competitive and added value transportation services | D33: NA | E33: Ministry of Transportation Vision (online) | F33: http://dephub.go.id/ppid/kementerian/55
A34: IRN | B34: Iran (Islamic Republic of) | C34: NA
A35: JPN | B35: Japan | C35: Realize user-friendly transport that contributes to the rich lives of the citizens | D35: 2020 | E35: Basic Plan on Transport Policy, MLIT-Govt. Of Japan (p.1) | F35: https://www.mlit.go.jp/common/001096409.pdf
C36: Create a foundation of sustainable, secure and safe transport | D36: 2020 | E36: Basic Plan on Transport Policy, MLIT-Govt. Of Japan (p.1) | F36: https://www.mlit.go.jp/common/001096409.pdf
A37: KAZ | B37: Kazakhstan | C37: To modernize the main railroad routes, providing international transportation and trade ties, and also transit flows of goods via Trans-Asian main road | D37: 2030 | E37: Kazakhstan’s 2030 Development Strategy (p.12) | F37: https://ifsh.de/file-CORE/documents/yearbook/english/10/strategy.pdf
A38: KIR | B38: Kiribati | C38: To provide an innovative and integrated transportation, communication, postal and printery systems that is safe, efficient, affordable and accessible to all and will enhance tourism development in Kiribati | D38: 2023 | E38: Ministry Strategic Plan (MICTTD), 2020-2023 (p.4) | F38: https://www.micttd.gov.ki/sites/default/files/FINAL%20MICTTD%20MSP%202020-2023%20PRINT2.pdf
A39: KGZ | B39: Kyrgyz Republic | C39: N/A
A40: LAO | B40: Lao People’s Democratic Republic | C40: To be highly effective and efficient with integrated sustainable Transport | D40: 2030 | E40: UNESCAP Country Presentation (p.4) | F40: https://www.unescap.org/sites/default/files/Country%20presentation%20-%20Lao%20PDR.pdf
A41: MYS | B41: Malaysia | C41: To develop a sustainable transport sector that accelerates economic growth and supports the well-being of the rakyat in line with an advanced nation status | D41: 2030 | E41: National Transport Policy 2019-2030, p.11 | F41: https://www.pmo.gov.my/wp-content/uploads/2019/10/National-Transport-Policy-2019_2030EN.pdf
C42: Public transport as the rakyat’s choice for mobility by 2030. | D42: 2030 | E42: National Land Public Transport Master Plan (2013), p.1 | F42: https://www.apad.gov.my/sites/default/files/nlptmp_bi_version_8_nov_13.pdf
...

Sheet POL-POL-001
A1: Indicator | B1: Transport Policy Overview
A2: Indicator ATO Code | B2: POL-POL-001
A3: Description | B3: Transport policies availability for each ATO economy. Marked green if identified and/or available.
A4: Scope | B4: National | I4: Region | J4: Subregion | K4: Income Group (World Bank) | L4: Annex I or Non-Annex I | M4: OECD Country | N4: G20 | O4: ADB Member | P4: Least Developed Countries | Q4: UNCRD Members | R4: SIDS | S4: LandLocked | T4: Pacific Islands Forum (PIF) | U4: Asia-Pacific Economic Cooperation (APEC) | V4: South Asian Association for Regional Cooperation (SAARC) | W4: Association of South East Asian Nations (ASEAN) | X4: Greater Mekong Subregion (GMS) | Y4: BIMP-EAGA | Z4: Central Asia Regional Economic Cooperation (CAREC) | AA4: Indonesia-Malaysia-Thailand Growth Triangle (IMT-GT) | AB4: South Asia Subregional Economic Cooperation (SASEC) | AC4: Shanghai Cooperation Organisation | AD4: Central and West Asia Department | AE4: South Asia Department | AF4: East Asia Department | AG4: Pacific Department | AH4: South East Asia Department
A5: Mode | B5: NA
A6: Sector | B6: NA
B8: |<< Table of Contents
A10: Code | B10: ADB members, plus Iran and Russia | C10: Transport Policy | D10: Road Policy | E10: Logistics Policy | F10: Automotive Policy | G10: Rail Policy
A11: AFG | B11: Afghanistan | C11: =COUNTIFS('POL-POL-002(1)'!$A$11:$A$67,$A11,'POL-POL-002(1)'!$C$11:$C$67,"<>NA") -> 1 | D11: =COUNTIF('POL-POL-003'!$A$11:$A$32,$A11) -> 1 | E11: =COUNTIF('POL-POL-004'!$A$11:$A$30,$A11) -> 0 | F11: =COUNTIF('POL-POL-005'!$A$11:$A$31,$A11) -> 0 | H11: =COUNTIF('POL-POL-002(2)'!B$12:B$46,'POL-POL-001'!B11) -> 1 | I11: Asia | J11: Southern Asia | K11: Low income | L11: Non-Annex I | M11: Non-OECD | N11: No | O11: Yes | P11: Yes | Q11: Yes | S11: Yes | V11: Yes | Z11: Yes | AD11: Yes
A12: ARM | B12: Armenia | C12: =COUNTIFS('POL-POL-002(1)'!$A$11:$A$67,$A12,'POL-POL-002(1)'!$C$11:$C$67,"<>NA") -> 0 | D12: =COUNTIF('POL-POL-003'!$A$11:$A$32,$A12) -> 0 | E12: =COUNTIF('POL-POL-004'!$A$11:$A$30,$A12) -> 0 | F12: =COUNTIF('POL-POL-005'!$A$11:$A$31,$A12) -> 0 | H12: =COUNTIF('POL-POL-002(2)'!B$12:B$46,'POL-POL-001'!B12) -> 0 | I12: Asia | J12: Western Asia | K12: Upper middle income | L12: Non-Annex I | M12: Non-OECD | N12: No | O12: Yes | P12: No | S12: Yes | AD12: Yes
A13: AUS | B13: Australia | C13: =COUNTIFS('POL-POL-002(1)'!$A$11:$A$67,$A13,'POL-POL-002(1)'!$C$11:$C$67,"<>NA") -> 1 | D13: =COUNTIF('POL-POL-003'!$A$11:$A$32,$A13) -> 1 | E13: =COUNTIF('POL-POL-004'!$A$11:$A$30,$A13) -> 1 | F13: =COUNTIF('POL-POL-005'!$A$11:$A$31,$A13) -> 1 | H13: =COUNTIF('POL-POL-002(2)'!B$12:B$46,'POL-POL-001'!B13) -> 1 | I13: Oceania | J13: Australia and New Zealand | K13: High income | L13: Annex I | M13: OECD | N13: Yes | O13: Yes | P13: No | T13: Yes | U13: Yes
A14: AZE | B14: Azerbaijan | C14: =COUNTIFS('POL-POL-002(1)'!$A$11:$A$67,$A14,'POL-POL-002(1)'!$C$11:$C$67,"<>NA") -> 1 | D14: =COUNTIF('POL-POL-003'!$A$11:$A$32,$A14) -> 0 | E14: =COUNTIF('POL-POL-004'!$A$11:$A$30,$A14) -> 1 | F14: =COUNTIF('POL-POL-005'!$A$11:$A$31,$A14) -> 0 | H14: =COUNTIF('POL-POL-002(2)'!B$12:B$46,'POL-POL-001'!B14) -> 1 | I14: Asia | J14: Western Asia | K14: Upper middle income | L14: Non-Annex I | M14: Non-OECD | N14: No | O14: Yes | P14: No | Q14: Yes | S14: Yes | Z14: Yes | AD14: Yes
A15: BGD | B15: Bangladesh | C15: =COUNTIFS('POL-POL-002(1)'!$A$11:$A$67,$A15,'POL-POL-002(1)'!$C$11:$C$67,"<>NA") -> 1 | D15: =COUNTIF('POL-POL-003'!$A$11:$A$32,$A15) -> 1 | E15: =COUNTIF('POL-POL-004'!$A$11:$A$30,$A15) -> 0 | F15: =COUNTIF('POL-POL-005'!$A$11:$A$31,$A15) -> 1 | H15: =COUNTIF('POL-POL-002(2)'!B$12:B$46,'POL-POL-001'!B15) -> 1 | I15: Asia | J15: Southern Asia | K15: Lower middle income | L15: Non-Annex I | M15: Non-OECD | N15: No | O15: Yes | P15: Yes | Q15: Yes | V15: Yes | AB15: Yes | AE15: Yes
A16: BTN | B16: Bhutan | C16: =COUNTIFS('POL-POL-002(1)'!$A$11:$A$67,$A16,'POL-POL-002(1)'!$C$11:$C$67,"<>NA") -> 1 | D16: =COUNTIF('POL-POL-003'!$A$11:$A$32,$A16) -> 1 | E16: =COUNTIF('POL-POL-004'!$A$11:$A$30,$A16) -> 0 | F16: =COUNTIF('POL-POL-005'!$A$11:$A$31,$A16) -> 0 | H16: =COUNTIF('POL-POL-002(2)'!B$12:B$46,'POL-POL-001'!B16) -> 1 | I16: Asia | J16: Southern Asia | K16: Lower middle income | L16: Non-Annex I | M16: Non-OECD | N16: No | O16: Yes | P16: Yes | Q16: Yes | S16: Yes | V16: Yes | AB16: Yes | AE16: Yes
A17: BRN | B17: Brunei Darussalam | C17: =COUNTIFS('POL-POL-002(1)'!$A$11:$A$67,$A17,'POL-POL-002(1)'!$C$11:$C$67,"<>NA") -> 1 | D17: =COUNTIF('POL-POL-003'!$A$11:$A$32,$A17) -> 0 | E17: =COUNTIF('POL-POL-004'!$A$11:$A$30,$A17) -> 0 | F17: =COUNTIF('POL-POL-005'!$A$11:$A$31,$A17) -> 0 | H17: =COUNTIF('POL-POL-002(2)'!B$12:B$46,'POL-POL-001'!B17) -> 1 | I17: Asia | J17: South-Eastern Asia | K17: High income | L17: Non-Annex I | M17: Non-OECD | N17: No | O17: Yes | P17: No | Q17: Yes | U17: Yes | W17: Yes | Y17: Yes | AH17: Yes
A18: KHM | B18: Cambodia | C18: =COUNTIFS('POL-POL-002(1)'!$A$11:$A$67,$A18,'POL-POL-002(1)'!$C$11:$C$67,"<>NA") -> 0 | D18: =COUNTIF('POL-POL-003'!$A$11:$A$32,$A18) -> 0 | E18: =COUNTIF('POL-POL-004'!$A$11:$A$30,$A18) -> 1 | F18: =COUNTIF('POL-POL-005'!$A$11:$A$31,$A18) -> 0 | H18: =COUNTIF('POL-POL-002(2)'!B$12:B$46,'POL-POL-001'!B18) -> 0 | I18: Asia | J18: South-Eastern Asia | K18: Lower middle income | L18: Non-Annex I | M18: Non-OECD | N18: No | O18: Yes | P18: Yes | Q18: Yes | W18: Yes | AH18: Yes
A19: CHN | B19: People's Republic of China | C19: =COUNTIFS('POL-POL-002(1)'!$A$11:$A$67,$A19,'POL-POL-002(1)'!$C$11:$C$67,"<>NA") -> 1 | D19: =COUNTIF('POL-POL-003'!$A$11:$A$32,$A19) -> 1 | E19: =COUNTIF('POL-POL-004'!$A$11:$A$30,$A19) -> 1 | F19: =COUNTIF('POL-POL-005'!$A$11:$A$31,$A19) -> 1 | H19: =COUNTIF('POL-POL-002(2)'!B$12:B$46,'POL-POL-001'!B19) -> 1 | I19: Asia | J19: Eastern Asia | K19: Upper middle income | L19: Non-Annex I | M19: Non-OECD | N19: Yes | O19: Yes | P19: No | Q19: Yes | U19: Yes | X19: Yes | Z19: Yes | AC19: Yes | AF19: Yes
A20: COK | B20: Cook Islands | C20: =COUNTIFS('POL-POL-002(1)'!$A$11:$A$67,$A20,'POL-POL-002(1)'!$C$11:$C$67,"<>NA") -> 1 | D20: =COUNTIF('POL-POL-003'!$A$11:$A$32,$A20) -> 1 | E20: =COUNTIF('POL-POL-004'!$A$11:$A$30,$A20) -> 0 | F20: =COUNTIF('POL-POL-005'!$A$11:$A$31,$A20) -> 0 | H20: =COUNTIF('POL-POL-002(2)'!B$12:B$46,'POL-POL-001'!B20) -> 1 | I20: Oceania | J20: Polynesia | K20: Upper middle income | L20: Non-Annex I | M20: Non-OECD | N20: No | O20: Yes | P20: No | R20: Yes | T20: Yes | AG20: Yes
A21: FJI | B21: Fiji | C21: =COUNTIFS('POL-POL-002(1)'!$A$11:$A$67,$A21,'POL-POL-002(1)'!$C$11:$C$67,"<>NA") -> 1 | D21: =COUNTIF('POL-POL-003'!$A$11:$A$32,$A21) -> 0 | E21: =COUNTIF('POL-POL-004'!$A$11:$A$30,$A21) -> 0 | F21: =COUNTIF('POL-POL-005'!$A$11:$A$31,$A21) -> 0 | H21: =COUNTIF('POL-POL-002(2)'!B$12:B$46,'POL-POL-001'!B21) -> 1 | I21: Oceania | J21: Melanesia | K21: Upper middle income | L21: Non-Annex I | M21: Non-OECD | N21: No | O21: Yes | P21: No | Q21: Yes | R21: Yes | T21: Yes | AG21: Yes
A22: GEO | B22: Georgia | C22: =COUNTIFS('POL-POL-002(1)'!$A$11:$A$67,$A22,'POL-POL-002(1)'!$C$11:$C$67,"<>NA") -> 0 | D22: =COUNTIF('POL-POL-003'!$A$11:$A$32,$A22) -> 0 | E22: =COUNTIF('POL-POL-004'!$A$11:$A$30,$A22) -> 1 | F22: =COUNTIF('POL-POL-005'!$A$11:$A$31,$A22) -> 0 | H22: =COUNTIF('POL-POL-002(2)'!B$12:B$46,'POL-POL-001'!B22) -> 0 | I22: Asia | J22: Western Asia | K22: Upper middle income | L22: Non-Annex I | M22: Non-OECD | N22: No | O22: Yes | P22: No | Z22: Yes | AD22: Yes
A23: HKG | B23: Hong Kong, China | C23: =COUNTIFS('POL-POL-002(1)'!$A$11:$A$67,$A23,'POL-POL-002(1)'!$C$11:$C$67,"<>NA") -> 0 | D23: =COUNTIF('POL-POL-003'!$A$11:$A$32,$A23) -> 0 | E23: =COUNTIF('POL-POL-004'!$A$11:$A$30,$A23) -> 0 | F23: =COUNTIF('POL-POL-005'!$A$11:$A$31,$A23) -> 0 | H23: =COUNTIF('POL-POL-002(2)'!B$12:B$46,'POL-POL-001'!B23) -> 0 | I23: Asia | J23: Eastern Asia | K23: High income | L23: - | M23: Non-OECD | N23: No | O23: Yes | U23: Yes | AF23: Yes
A24: IND | B24: India | D24: =COUNTIF('POL-POL-003'!$A$11:$A$32,$A24) -> 1 | E24: =COUNTIF('POL-POL-004'!$A$11:$A$30,$A24) -> 1 | F24: =COUNTIF('POL-POL-005'!$A$11:$A$31,$A24) -> 1 | H24: =COUNTIF('POL-POL-002(2)'!B$12:B$46,'POL-POL-001'!B24) -> 0 | I24: Asia | J24: Southern Asia | K24: Lower middle income | L24: Non-Annex I | M24: Non-OECD | N24: Yes | O24: Yes | P24: No | Q24: Yes | V24: Yes | AB24: Yes | AC24: Yes | AE24: Yes
A25: IDN | B25: Indonesia | C25: =COUNTIFS('POL-POL-002(1)'!$A$11:$A$67,$A25,'POL-POL-002(1)'!$C$11:$C$67,"<>NA") -> 1 | D25: =COUNTIF('POL-POL-003'!$A$11:$A$32,$A25) -> 0 | E25: =COUNTIF('POL-POL-004'!$A$11:$A$30,$A25) -> 1 | F25: =COUNTIF('POL-POL-005'!$A$11:$A$31,$A25) -> 1 | H25: =COUNTIF('POL-POL-002(2)'!B$12:B$46,'POL-POL-001'!B25) -> 1 | I25: Asia | J25: South-Eastern Asia | K25: Lower middle income | L25: Non-Annex I | M25: Non-OECD | N25: Yes | O25: Yes | P25: No | Q25: Yes | U25: Yes | W25: Yes | Y25: Yes | AA25: Yes | AH25: Yes
A26: IRN | B26: Iran (Islamic Republic of) | C26: =COUNTIFS('POL-POL-002(1)'!$A$11:$A$67,$A26,'POL-POL-002(1)'!$C$11:$C$67,"<>NA") -> 0 | D26: =COUNTIF('POL-POL-003'!$A$11:$A$32,$A26) -> 0 | E26: =COUNTIF('POL-POL-004'!$A$11:$A$30,$A26) -> 0 | F26: =COUNTIF('POL-POL-005'!$A$11:$A$31,$A26) -> 0 | H26: =COUNTIF('POL-POL-002(2)'!B$12:B$46,'POL-POL-001'!B26) -> 0 | I26: Asia | J26: Southern Asia | K26: Upper middle income | L26: Non-Annex I | M26: Non-OECD | N26: No | O26: No | P26: No | Q26: Yes
A27: JPN | B27: Japan | C27: =COUNTIFS('POL-POL-002(1)'!$A$11:$A$67,$A27,'POL-POL-002(1)'!$C$11:$C$67,"<>NA") -> 1 | D27: =COUNTIF('POL-POL-003'!$A$11:$A$32,$A27) -> 0 | E27: =COUNTIF('POL-POL-004'!$A$11:$A$30,$A27) -> 1 | F27: =COUNTIF('POL-POL-005'!$A$11:$A$31,$A27) -> 1 | H27: =COUNTIF('POL-POL-002(2)'!B$12:B$46,'POL-POL-001'!B27) -> 1 | I27: Asia | J27: Eastern Asia | K27: High income | L27: Annex I | M27: OECD | N27: Yes | O27: Yes | P27: No | Q27: Yes | U27: Yes
A28: KAZ | B28: Kazakhstan | C28: =COUNTIFS('POL-POL-002(1)'!$A$11:$A$67,$A28,'POL-POL-002(1)'!$C$11:$C$67,"<>NA") -> 0 | D28: =COUNTIF('POL-POL-003'!$A$11:$A$32,$A28) -> 0 | E28: =COUNTIF('POL-POL-004'!$A$11:$A$30,$A28) -> 1 | F28: =COUNTIF('POL-POL-005'!$A$11:$A$31,$A28) -> 0 | H28: =COUNTIF('POL-POL-002(2)'!B$12:B$46,'POL-POL-001'!B28) -> 0 | I28: Asia | J28: Central Asia | K28: Upper middle income | L28: Non-Annex I | M28: Non-OECD | N28: No | O28: Yes | P28: No | S28: Yes | Z28: Yes | AC28: Yes | AD28: Yes
A29: KIR | B29: Kiribati | C29: =COUNTIFS('POL-POL-002(1)'!$A$11:$A$67,$A29,'POL-POL-002(1)'!$C$11:$C$67,"<>NA") -> 1 | D29: =COUNTIF('POL-POL-003'!$A$11:$A$32,$A29) -> 0 | E29: =COUNTIF('POL-POL-004'!$A$11:$A$30,$A29) -> 0 | F29: =COUNTIF('POL-POL-005'!$A$11:$A$31,$A29) -> 0 | H29: =COUNTIF('POL-POL-002(2)'!B$12:B$46,'POL-POL-001'!B29) -> 1 | I29: Oceania | J29: Micronesia | K29: Lower middle income | L29: Non-Annex I | M29: Non-OECD | N29: No | O29: Yes | P29: Yes | R29: Yes | T29: Yes | AG29: Yes
A30: KGZ | B30: Kyrgyz Republic | C30: =COUNTIFS('POL-POL-002(1)'!$A$11:$A$67,$A30,'POL-POL-002(1)'!$C$11:$C$67,"<>NA") -> 0 | D30: =COUNTIF('POL-POL-003'!$A$11:$A$32,$A30) -> 0 | E30: =COUNTIF('POL-POL-004'!$A$11:$A$30,$A30) -> 1 | F30: =COUNTIF('POL-POL-005'!$A$11:$A$31,$A30) -> 0 | H30: =COUNTIF('POL-POL-002(2)'!B$12:B$46,'POL-POL-001'!B30) -> 0 | I30: Asia | J30: Central Asia | K30: Lower middle income | L30: Non-Annex I | M30: Non-OECD | N30: No | O30: Yes | P30: No | Q30: Yes | S30: Yes | Z30: Yes | AC30: Yes | AD30: Yes
A31: LAO | B31: Lao People’s Democratic Republic | C31: =COUNTIFS('POL-POL-002(1)'!$A$11:$A$67,$A31,'POL-POL-002(1)'!$C$11:$C$67,"<>NA") -> 0 | D31: =COUNTIF('POL-POL-003'!$A$11:$A$32,$A31) -> 0 | E31: =COUNTIF('POL-POL-004'!$A$11:$A$30,$A31) -> 0 | F31: =COUNTIF('POL-POL-005'!$A$11:$A$31,$A31) -> 0 | H31: =COUNTIF('POL-POL-002(2)'!B$12:B$46,'POL-POL-001'!B31) -> 0 | I31: Asia | J31: South-Eastern Asia | K31: Lower middle income | L31: Non-Annex I | M31: Non-OECD | N31: No | O31: Yes | P31: Yes | Q31: Yes | S31: Yes | W31: Yes | X31: Yes | AH31: Yes
A32: MYS | B32: Malaysia | C32: =COUNTIFS('POL-POL-002(1)'!$A$11:$A$67,$A32,'POL-POL-002(1)'!$C$11:$C$67,"<>NA") -> 1 | D32: =COUNTIF('POL-POL-003'!$A$11:$A$32,$A32) -> 0 | E32: =COUNTIF('POL-POL-004'!$A$11:$A$30,$A32) -> 1 | F32: =COUNTIF('POL-POL-005'!$A$11:$A$31,$A32) -> 1 | H32: =COUNTIF('POL-POL-002(2)'!B$12:B$46,'POL-POL-001'!B32) -> 1 | I32: Asia | J32: South-Eastern Asia | K32: Upper middle income | L32: Non-Annex I | M32: Non-OECD | N32: No | O32: Yes | P32: No | Q32: Yes | U32: Yes | W32: Yes | Y32: Yes | AA32: Yes | AH32: Yes
A33: MDV | B33: Maldives | C33: =COUNTIFS('POL-POL-002(1)'!$A$11:$A$67,$A33,'POL-POL-002(1)'!$C$11:$C$67,"<>NA") -> 0 | D33: =COUNTIF('POL-POL-003'!$A$11:$A$32,$A33) -> 0 | E33: =COUNTIF('POL-POL-004'!$A$11:$A$30,$A33) -> 0 | F33: =COUNTIF('POL-POL-005'!$A$11:$A$31,$A33) -> 0 | H33: =COUNTIF('POL-POL-002(2)'!B$12:B$46,'POL-POL-001'!B33) -> 0 | I33: Asia | J33: Southern Asia | K33: Upper middle income | L33: Non-Annex I | M33: Non-OECD | N33: No | O33: Yes | P33: No | Q33: Yes | R33: Yes | V33: Yes | AB33: Yes | AE33: Yes
A34: MHL | B34: Marshall Islands | C34: =COUNTIFS('POL-POL-002(1)'!$A$11:$A$67,$A34,'POL-POL-002(1)'!$C$11:$C$67,"<>NA") -> 0 | D34: =COUNTIF('POL-POL-003'!$A$11:$A$32,$A34) -> 0 | E34: =COUNTIF('POL-POL-004'!$A$11:$A$30,$A34) -> 0 | F34: =COUNTIF('POL-POL-005'!$A$11:$A$31,$A34) -> 0 | H34: =COUNTIF('POL-POL-002(2)'!B$12:B$46,'POL-POL-001'!B34) -> 0 | I34: Oceania | J34: Micronesia | K34: Upper middle income | L34: Non-Annex I | M34: Non-OECD | N34: No | O34: Yes | P34: No | R34: Yes | T34: Yes | AG34: Yes
A35: FSM | B35: Micronesia (Federal States of) | C35: =COUNTIFS('POL-POL-002(1)'!$A$11:$A$67,$A35,'POL-POL-002(1)'!$C$11:$C$67,"<>NA") -> 1 | D35: =COUNTIF('POL-POL-003'!$A$11:$A$32,$A35) -> 0 | E35: =COUNTIF('POL-POL-004'!$A$11:$A$30,$A35) -> 0 | F35: =COUNTIF('POL-POL-005'!$A$11:$A$31,$A35) -> 0 | H35: =COUNTIF('POL-POL-002(2)'!B$12:B$46,'POL-POL-001'!B35) -> 1 | I35: Oceania | J35: Micronesia | K35: Lower middle income | L35: Non-Annex I | M35: Non-OECD | N35: No | O35: Yes | P35: No | R35: Yes | T35: Yes | AG35: Yes
A36: MNG | B36: Mongolia | C36: =COUNTIFS('POL-POL-002(1)'!$A$11:$A$67,$A36,'POL-POL-002(1)'!$C$11:$C$67,"<>NA") -> 0 | D36: =COUNTIF('POL-POL-003'!$A$11:$A$32,$A36) -> 0 | E36: =COUNTIF('POL-POL-004'!$A$11:$A$30,$A36) -> 0 | F36: =COUNTIF('POL-POL-005'!$A$11:$A$31,$A36) -> 0 | H36: =COUNTIF('POL-POL-002(2)'!B$12:B$46,'POL-POL-001'!B36) -> 0 | I36: Asia | J36: Eastern Asia | K36: Lower middle income | L36: Non-Annex I | M36: Non-OECD | N36: No | O36: Yes | P36: No | Q36: Yes | S36: Yes | Z36: Yes | AF36: Yes
A37: MMR | B37: Myanmar | C37: =COUNTIFS('POL-POL-002(1)'!$A$11:$A$67,$A37,'POL-POL-002(1)'!$C$11:$C$67,"<>NA") -> 1 | D37: =COUNTIF('POL-POL-003'!$A$11:$A$32,$A37) -> 1 | E37: =COUNTIF('POL-POL-004'!$A$11:$A$30,$A37) -> 1 | F37: =COUNTIF('POL-POL-005'!$A$11:$A$31,$A37) -> 0 | H37: =COUNTIF('POL-POL-002(2)'!B$12:B$46,'POL-POL-001'!B37) -> 1 | I37: Asia | J37: South-Eastern Asia | K37: Lower middle income | L37: Non-Annex I | M37: Non-OECD | N37: No | O37: Yes | P37: Yes | Q37: Yes | W37: Yes | X37: Yes | AB37: Yes | AH37: Yes
A38: NRU | B38: Nauru | C38: =COUNTIFS('POL-POL-002(1)'!$A$11:$A$67,$A38,'POL-POL-002(1)'!$C$11:$C$67,"<>NA") -> 0 | D38: =COUNTIF('POL-POL-003'!$A$11:$A$32,$A38) -> 1 | E38: =COUNTIF('POL-POL-004'!$A$11:$A$30,$A38) -> 0 | F38: =COUNTIF('POL-POL-005'!$A$11:$A$31,$A38) -> 0 | H38: =COUNTIF('POL-POL-002(2)'!B$12:B$46,'POL-POL-001'!B38) -> 0 | I38: Oceania | J38: Micronesia | K38: Upper middle income | L38: Non-Annex I | M38: Non-OECD | N38: No | O38: Yes | P38: No | R38: Yes | T38: Yes | AG38: Yes
A39: NPL | B39: Nepal | C39: =COUNTIFS('POL-POL-002(1)'!$A$11:$A$67,$A39,'POL-POL-002(1)'!$C$11:$C$67,"<>NA") -> 1 | D39: =COUNTIF('POL-POL-003'!$A$11:$A$32,$A39) -> 0 | E39: =COUNTIF('POL-POL-004'!$A$11:$A$30,$A39) -> 0 | F39: =COUNTIF('POL-POL-005'!$A$11:$A$31,$A39) -> 0 | H39: =COUNTIF('POL-POL-002(2)'!B$12:B$46,'POL-POL-001'!B39) -> 1 | I39: Asia | J39: Southern Asia | K39: Low income | L39: Non-Annex I | M39: Non-OECD | N39: No | O39: Yes | P39: Yes | Q39: Yes | S39: Yes | V39: Yes | AB39: Yes | AE39: Yes
A40: NZL | B40: New Zealand | C40: =COUNTIFS('POL-POL-002(1)'!$A$11:$A$67,$A40,'POL-POL-002(1)'!$C$11:$C$67,"<>NA") -> 1 | D40: =COUNTIF('POL-POL-003'!$A$11:$A$32,$A40) -> 1 | E40: =COUNTIF('POL-POL-004'!$A$11:$A$30,$A40) -> 0 | F40: =COUNTIF('POL-POL-005'!$A$11:$A$31,$A40) -> 1 | H40: =COUNTIF('POL-POL-002(2)'!B$12:B$46,'POL-POL-001'!B40) -> 1 | I40: Oceania | J40: Australia and New Zealand | K40: High income | L40: Annex I | M40: OECD | N40: No | O40: Yes | P40: No | T40: Yes | U40: Yes
A41: NIU | B41: Niue | C41: =COUNTIFS('POL-POL-002(1)'!$A$11:$A$67,$A41,'POL-POL-002(1)'!$C$11:$C$67,"<>NA") -> 1 | D41: =COUNTIF('POL-POL-003'!$A$11:$A$32,$A41) -> 1 | E41: =COUNTIF('POL-POL-004'!$A$11:$A$30,$A41) -> 0 | F41: =COUNTIF('POL-POL-005'!$A$11:$A$31,$A41) -> 0 | H41: =COUNTIF('POL-POL-002(2)'!B$12:B$46,'POL-POL-001'!B41) -> 1 | I41: Oceania | J41: Micronesia | K41: Upper middle income | L41: Non-Annex I | M41: Non-OECD | N41: No | O41: Yes | R41: Yes | T41: Yes | AG41: Yes
A42: PAK | B42: Pakistan | C42: =COUNTIFS('POL-POL-002(1)'!$A$11:$A$67,$A42,'POL-POL-002(1)'!$C$11:$C$67,"<>NA") -> 1 | D42: =COUNTIF('POL-POL-003'!$A$11:$A$32,$A42) -> 0 | E42: =COUNTIF('POL-POL-004'!$A$11:$A$30,$A42) -> 1 | F42: =COUNTIF('POL-POL-005'!$A$11:$A$31,$A42) -> 1 | H42: =COUNTIF('POL-POL-002(2)'!B$12:B$46,'POL-POL-001'!B42) -> 1 | I42: Asia | J42: Southern Asia | K42: Lower middle income | L42: Non-Annex I | M42: Non-OECD | N42: No | O42: Yes | P42: No | Q42: Yes | V42: Yes | Z42: Yes | AC42: Yes | AD42: Yes
...

Sheet POL-POL-002(1)
A1: Indicator | B1: Transport Policy Documents
A2: Indicator ATO Code | B2: POL-POL-002(1)
A3: Description | B3: National transport policies for each country. In terms of date of adoption 2016 used was a divider in order to be able to determine whether it can be expected that the policy documents make reference to the 2030 Agenda on Sustainable Development (SDGs) and the Paris Agreement which were both adopted in 2015.
A4: Scope | B4: National
A5: Mode | B5: NA
A6: Sector | B6: NA
B8: |<< Table of Contents
E9: Published | G9: Time Horizon
A10: Code | B10: ADB members, plus Iran and Russia | C10: Policy | D10: URL | E10: Before 2016 | F10: After 2016 | G10: By 2020- 2029 | H10: By 2030- 2039 | I10: By 2040/ beyond | J10: NA
A11: AFG | B11: Afghanistan | C11: Afghanistan Transport Sector Master Plan Update | D11: https://www.adb.org/sites/default/files/institutional-document/327561/afg-transport-plan-2017-2036.pdf | F11: 2017 | H11: 2036
A12: ARM | B12: Armenia | C12: NA
A13: AUS | B13: Australia | C13: National Guidelines for Transport System Management in Australia | D13: https://www.atap.gov.au/sites/default/files/National_Guidelines_Volume_1.pdf | E13: 2006
A14: AZE | B14: Azerbaijan | C14: Transport Sector Development Strategy | D14: https://www.adb.org/sites/default/files/project-document/67162/39030-aze-tacr.pdf | E14: 2006 | G14: 2020
A15: BGD | B15: Bangladesh | C15: National Land Transport Policy | D15: http://brta.portal.gov.bd/sites/default/files/files/brta.portal.gov.bd/legislative_information/6f128a39_e0cf_4f2e_bdf1_b384d07ae9ac/National-Land-Transport-Policy.pdf | E15: 2004 | J15: NA
A16: BTN | B16: Bhutan | C16: National Transport Policy | D16: https://www.moic.gov.bt/wp-content/uploads/2017/08/Draft-Final-PPR.pdf | F16: 2017 | J16: NA
A17: BRN | B17: Brunei Darussalam | C17: Roadmap and Draft National Masterplan for a Sustainable Land Transportation System for Brunei Darussalam | D17: http://www.mtic.gov.bn/Resources/LAND%20TRANSPORT%20MASTER%20PLAN%20-%20Executive%20Summary.pdf | E17: 2014 | J17: NA
C18: Strategic Plan for Ministry of Transport and Infocommunications | D18: http://www.mtic.gov.bn/MTIC2025/documents/MTIC_2025-Strategic-Plan_FINAL.pdf | F18: 2020 | G18: 2025
A19: KHM | B19: Cambodia | C19: NA
A20: CHN | B20: People's Republic of China | C20: National Comprehensive Three-Dimensional Transportation Network Planning | D20: http://www.gov.cn/zhengce/2021-02/24/content_5588654.htm | F20: 2021 | H20: 2035
C21: Sustainable Development of Transport in China | D21: http://www.scio.gov.cn/zfbps/32832/Document/1695320/1695320.htm | F21: 2020 | H21: 2035
A22: COK | B22: Cook Islands | C22: Infrastructure Cook Islands Strategic Plan 2016-2021 | D22: http://ici.gov.ck/sites/default/files/downloads/ICI-0001_Strategic%20Plan_WEB.pdf | F22: 2017 | G22: 2021
A23: FJI | B23: Fiji | C23: Maritime and Land Transport Policy | D23: https://www.reinfofiji.com.fj/wp-content/uploads/2017/11/06-26-Maritime-and-Land-Transport-Policy.pdf | E23: 2015 | H23: 2030
A24: GEO | B24: Georgia | C24: NA
A25: HKG | B25: Hong Kong, China | C25: NA
A26: IND | B26: India | C26: NA
A27: IDN | B27: Indonesia | C27: Studies for National Transport Master Plan | D27: https://inaca.or.id/wp-content/uploads/2020/02/RPJMN-DAN-RENSTRA-UNTUK-PUSLITBANG-HUBUD-2020-2024.pdf | F27: 2020 | G27: 2024
A28: IRN | B28: Iran (Islamic Republic of) | C28: NA
A29: JPN | B29: Japan | C29: Basic Plan on Transport Policy | D29: https://www.mlit.go.jp/common/001096409.pdf | E29: 2014 | G29: 2020
A30: KAZ | B30: Kazakhstan | C30: NA
A31: KIR | B31: Kiribati | C31: Ministry Strategic Plan (MICTTD) | D31: https://www.micttd.gov.ki/sites/default/files/FINAL%20MICTTD%20MSP%202020-2023%20PRINT2.pdf | F31: 2019 | G31: 2023
A32: KGZ | B32: Kyrgyz Republic | C32: NA
A33: LAO | B33: Lao People’s Democratic Republic | C33: NA
C34: NA
A35: MYS | B35: Malaysia | C35: National Land Public Transport Master Plan | D35: https://www.apad.gov.my/sites/default/files/nlptmp_bi_version_8_nov_13.pdf | E35: 2013 | H35: 2030
C36: National Transport Policy | D36: https://www.pmo.gov.my/wp-content/uploads/2019/10/National-Transport-Policy-2019_2030EN.pdf | F36: 2019 | H36: 2030
A37: MDV | B37: Maldives | C37: NA
A38: MHL | B38: Marshall Islands | C38: NA
A39: FSM | B39: Micronesia (Federated States of) | C39: Infrastructure Development Plan 2016-2025 | D39: http://www.dofa.gov.fm/wp-content/uploads/2018/12/FSM-Infrastructure-Development-Plan-2016-2025.pdf | E39: 2015 | G39: 2025
A40: MNG | B40: Mongolia | C40: NA
A41: MMR | B41: Myanmar | C41: The Survey Program for the National Transport Development Plan | D41: https://openjicareport.jica.go.jp/pdf/12230710.pdf | E41: 2014 | J41: NA
...

Sheet POL-POL-002(2)
A1: Indicator | B1: Transport Policies
A2: Indicator ATO Code | B2: POL-POL-002(2)
A3: Description | B3: Subsectoral and thematic coverage of identified national transport policies. See footnote for legend.
A4: Scope | B4: National
A5: Mode | B5: NA
A6: Sector | B6: NA
B8: |<< Table of Contents
B9: Add missing country/s | D9: Qualitative | AA9: Quantitative | AX9: Investment | BU9: Institution | CR9: Summary Score | DF9: Overall Rating
A10: Code | B10: ADB members, plus Iran and Russia | C10: Policy | D10: Road | E10: Rail | F10: Inland Water | G10: Aviation | H10: ICT | I10: Active Transport (Infrastructure) | J10: Passenger Activity | K10: Freight Activity | L10: Public Transport | M10: Active Transport | N10: Urban Transport | O10: Inter/ Multimodal | P10: Rural Accessibility | Q10: Urban Accessibility | R10: Domestic/ Regional Connectivity | S10: Road Safety | T10: Air Pollution | U10: CC Mitigation | V10: CC Adaptation | W10: Disaster readiness | X10: Gender | Y10: Regulation/ Institution/ PPP | Z10: Transport Education | AA10: Road | AB10: Rail | AC10: Inland Water | AD10: Aviation | AE10: ICT | AF10: Active Transport (Infrastructure) | AG10: Passenger Activity | AH10: Freight Activity | AI10: Public Transport | AJ10: Active Transport | AK10: Urban Transport | AL10: Inter/ Multimodal | AM10: Rural Accessibility | AN10: Urban Accessibility | AO10: Domestic/ Regional Connectivity | AP10: Road Safety | AQ10: Air Pollution | AR10: CC Mitigation | AS10: CC Adaptation | AT10: Disaster readiness | AU10: Gender | AV10: Regulation/ Institution/ PPP | AW10: Transport Education | AX10: Road | AY10: Rail | AZ10: Inland Water | BA10: Aviation | BB10: ICT | BC10: Active Transport (Infrastructure) | BD10: Passenger Activity | BE10: Freight Activity | BF10: Public Transport | BG10: Active Transport | BH10: Urban Transport | BI10: Inter/ Multimodal | BJ10: Rural Accessibility | BK10: Urban Accessibility | BL10: Domestic/ Regional Connectivity | BM10: Road Safety | BN10: Air Pollution | BO10: CC Mitigation | BP10: CC Adaptation | BQ10: Disaster readiness | BR10: Gender | BS10: Regulation/ Institution/ PPP | BT10: Transport Education | BU10: Road | BV10: Rail | BW10: Inland Water | BX10: Aviation | BY10: ICT | BZ10: Active Transport (Infrastructure) | CA10: Passenger Activity | CB10: Freight Activity | CC10: Public Transport | CD10: Active Transport | CE10: Urban Transport | CF10: Inter/ Multimodal | CG10: Rural Accessibility | CH10: Urban Accessibility | CI10: Domestic/ Regional Connectivity | CJ10: Road Safety | CK10: Air Pollution | CL10: CC Mitigation | CM10: CC Adaptation | CN10: Disaster readiness | CO10: Gender | CP10: Regulation/ Institution/ PPP | CQ10: Transport Education | CR10: Infrastructure | CT10: Activity and Services | CV10: Accessibility | CX10: Road Safety | CZ10: Air Pollution and Climage Change | DB10: Gender | DD10: Others
D11: Infrastructure | J11: Activity and Services | P11: Accessibility | S11: Externalities | X11: Others | AA11: Infrastructure | AG11: Activity and Services | AM11: Accessibility | AP11: Externalities | AU11: Others | AX11: Infrastructure | BD11: Activity and Services | BJ11: Accessibility | BM11: Externalities | BR11: Others | BU11: Infrastructure | CA11: Activity and Services | CG11: Accessibility | CJ11: Externalities | CO11: Others | CR11: QL | CS11: QN | CT11: QL | CU11: QN | CV11: QL | CW11: QN | CX11: QL | CY11: QN | CZ11: QL | DA11: QN | DB11: QL | DC11: QN | DD11: QL | DE11: QN | DF11: QL | DG11: QN | DH11: IV
A12: AFG | B12: Afghanistan | C12: Afghanistan Transport Sector Master Plan Update | D12: 2 | E12: 2 | F12: 1 | G12: 2 | H12: 0 | I12: 0 | J12: 1 | K12: 2 | L12: 2 | M12: 0 | N12: 2 | O12: 2 | P12: 1 | Q12: 1 | R12: 2 | S12: 2 | T12: 0 | U12: 2 | V12: 1 | W12: 1 | X12: 1 | Y12: 2 | Z12: 1 | AA12: 2 | AB12: 2 | AC12: 0 | AD12: 1 | AE12: 0 | AF12: 0 | AG12: 1 | AH12: 1 | AI12: 1 | AJ12: 0 | AK12: 1 | AL12: 0 | AM12: 1 | AN12: 1 | AO12: 1 | AP12: 1 | AQ12: 0 | AR12: 1 | AS12: 0 | AT12: 0 | AU12: 0 | AV12: 1 | AW12: 0 | AX12: 2 | AY12: 2 | AZ12: 0 | BA12: 2 | BB12: 0 | BC12: 0 | BD12: 0 | BE12: 0 | BF12: 2 | BG12: 0 | BH12: 2 | BI12: 0 | BJ12: 1 | BK12: 1 | BL12: 1 | BM12: 1 | BN12: 0 | BO12: 0 | BP12: 0 | BQ12: 0 | BR12: 0 | BS12: 2 | BT12: 1 | BU12: 1 | BV12: 2 | BW12: 0 | BX12: 1 | BY12: 0 | BZ12: 0 | CA12: 0 | CB12: 1 | CC12: 1 | CD12: 0 | CE12: 1 | CF12: 1 | CG12: 1 | CH12: 1 | CI12: 1 | CJ12: 1 | CK12: 0 | CL12: 1 | CM12: 0 | CN12: 0 | CO12: 1 | CP12: 2 | CQ12: 1 | CR12: 2.9166667 | CS12: 2.0833333 | CT12: 3.75 | CU12: 1.6666667 | CV12: 3.3333333 | CW12: 2.5 | CX12: 5 | CY12: 2.5 | CZ12: 2.5 | DA12: 0.625 | DB12: 2.5 | DC12: 0 | DD12: 3.75 | DE12: 1.25 | DF12: 4.5 | DG12: 2.5 | DH12: 4
A13: AUS | B13: Australia | C13: National Guidelines for Transport System Management in Australia | D13: 2 | E13: 2 | F13: 0 | G13: 0 | H13: 1 | I13: 1 | J13: 2 | K13: 2 | L13: 2 | M13: 2 | N13: 2 | O13: 2 | P13: 2 | Q13: 2 | R13: 1 | S13: 1 | T13: 2 | U13: 1 | V13: 2 | W13: 0 | X13: 0 | Y13: 1 | Z13: 0 | AA13: 1 | AB13: 1 | AC13: 0 | AD13: 0 | AE13: 0 | AF13: 0 | AG13: 0 | AH13: 0 | AI13: 2 | AJ13: 1 | AK13: 1 | AL13: 0 | AM13: 0 | AN13: 1 | AO13: 0 | AP13: 0 | AQ13: 0 | AR13: 2 | AS13: 1 | AT13: 0 | AU13: 0 | AV13: 0 | AW13: 0 | AX13: 1 | AY13: 1 | AZ13: 0 | BA13: 0 | BB13: 0 | BC13: 0 | BD13: 0 | BE13: 0 | BF13: 0 | BG13: 0 | BH13: 0 | BI13: 0 | BJ13: 1 | BK13: 0 | BL13: 0 | BM13: 0 | BN13: 0 | BO13: 1 | BP13: 0 | BQ13: 0 | BR13: 0 | BS13: 0 | BT13: 0 | BU13: 0 | BV13: 1 | BW13: 0 | BX13: 0 | BY13: 0 | BZ13: 0 | CA13: 0 | CB13: 1 | CC13: 1 | CD13: 1 | CE13: 1 | CF13: 1 | CG13: 0 | CH13: 1 | CI13: 1 | CJ13: 1 | CK13: 1 | CL13: 1 | CM13: 0 | CN13: 0 | CO13: 0 | CP13: 1 | CQ13: 0 | CR13: 2.5 | CS13: 0.83333333 | CT13: 5 | CU13: 1.6666667 | CV13: 4.1666667 | CW13: 0.83333333 | CX13: 2.5 | CY13: 0 | CZ13: 3.125 | DA13: 1.875 | DB13: 0 | DC13: 0 | DD13: 1.25 | DE13: 0 | DF13: 3.5 | DG13: 1.5 | DH13: 1.5
A14: AZE | B14: Azerbaijan | C14: Transport Sector Development Strategy | D14: 2 | E14: 2 | F14: 2 | G14: 2 | H14: 1 | I14: 0 | J14: 1 | K14: 2 | L14: 2 | M14: 1 | N14: 2 | O14: 2 | P14: 2 | Q14: 1 | R14: 1 | S14: 2 | T14: 2 | U14: 1 | V14: 0 | W14: 1 | X14: 1 | Y14: 1 | Z14: 1 | AA14: 1 | AB14: 1 | AC14: 1 | AD14: 1 | AE14: 0 | AF14: 0 | AG14: 0 | AH14: 1 | AI14: 0 | AJ14: 0 | AK14: 1 | AL14: 0 | AM14: 0 | AN14: 0 | AO14: 0 | AP14: 0 | AQ14: 0 | AR14: 0 | AS14: 0 | AT14: 0 | AU14: 0 | AV14: 0 | AW14: 0 | AX14: 0 | AY14: 0 | AZ14: 0 | BA14: 0 | BB14: 0 | BC14: 0 | BD14: 0 | BE14: 0 | BF14: 0 | BG14: 0 | BH14: 0 | BI14: 0 | BJ14: 0 | BK14: 0 | BL14: 0 | BM14: 0 | BN14: 0 | BO14: 0 | BP14: 0 | BQ14: 0 | BR14: 0 | BS14: 0 | BT14: 0 | BU14: 0 | BV14: 0 | BW14: 0 | BX14: 0 | BY14: 0 | BZ14: 0 | CA14: 0 | CB14: 0 | CC14: 0 | CD14: 0 | CE14: 0 | CF14: 0 | CG14: 0 | CH14: 0 | CI14: 0 | CJ14: 0 | CK14: 0 | CL14: 0 | CM14: 0 | CN14: 0 | CO14: 0 | CP14: 0 | CQ14: 0 | CR14: 3.75 | CS14: 1.6666667 | CT14: 4.1666667 | CU14: 0.83333333 | CV14: 3.3333333 | CW14: 0 | CX14: 5 | CY14: 0 | CZ14: 2.5 | DA14: 0 | DB14: 2.5 | DC14: 0 | DD14: 2.5 | DE14: 0 | DF14: 2.5 | DG14: 1.5 | DH14: 1
A15: BGD | B15: Bangladesh | C15: National Land Transport Policy 2004 | D15: 2 | E15: 2 | F15: 2 | G15: 0 | H15: 0 | I15: 2 | J15: 1 | K15: 2 | L15: 2 | M15: 2 | N15: 2 | O15: 2 | P15: 2 | Q15: 0 | R15: 1 | S15: 2 | T15: 2 | U15: 0 | V15: 1 | W15: 0 | X15: 0 | Y15: 2 | Z15: 2 | AA15: 0 | AB15: 0 | AC15: 0 | AD15: 0 | AE15: 0 | AF15: 0 | AG15: 1 | AH15: 0 | AI15: 0 | AJ15: 1 | AK15: 0 | AL15: 0 | AM15: 0 | AN15: 0 | AO15: 0 | AP15: 0 | AQ15: 0 | AR15: 0 | AS15: 0 | AT15: 0 | AU15: 0 | AV15: 0 | AW15: 0 | AX15: 1 | AY15: 1 | AZ15: 0 | BA15: 0 | BB15: 0 | BC15: 0 | BD15: 0 | BE15: 0 | BF15: 0 | BG15: 0 | BH15: 0 | BI15: 1 | BJ15: 0 | BK15: 0 | BL15: 0 | BM15: 0 | BN15: 0 | BO15: 0 | BP15: 0 | BQ15: 0 | BR15: 0 | BS15: 0 | BT15: 0 | BU15: 2 | BV15: 2 | BW15: 1 | BX15: 0 | BY15: 0 | BZ15: 1 | CA15: 0 | CB15: 1 | CC15: 2 | CD15: 2 | CE15: 2 | CF15: 0 | CG15: 0 | CH15: 0 | CI15: 0 | CJ15: 2 | CK15: 2 | CL15: 0 | CM15: 0 | CN15: 0 | CO15: 0 | CP15: 0 | CQ15: 1 | CR15: 3.3333333 | CS15: 0 | CT15: 4.5833333 | CU15: 0.83333333 | CV15: 2.5 | CW15: 0 | CX15: 5 | CY15: 0 | CZ15: 1.875 | DA15: 0 | DB15: 0 | DC15: 0 | DD15: 5 | DE15: 0 | DF15: 3.5 | DG15: 2 | DH15: 1.5
A16: BTN | B16: Bhutan | C16: National Transport Policy 2017 | D16: 2 | E16: 1 | F16: 0 | G16: 2 | H16: 1 | I16: 2 | J16: 2 | K16: 2 | L16: 2 | M16: 2 | N16: 2 | O16: 1 | P16: 2 | Q16: 1 | R16: 2 | S16: 2 | T16: 2 | U16: 2 | V16: 1 | W16: 2 | X16: 2 | Y16: 2 | Z16: 2 | AA16: 2 | AB16: 0 | AC16: 0 | AD16: 1 | AE16: 0 | AF16: 0 | AG16: 2 | AH16: 0 | AI16: 2 | AJ16: 1 | AK16: 0 | AL16: 0 | AM16: 0 | AN16: 1 | AO16: 0 | AP16: 2 | AQ16: 1 | AR16: 2 | AS16: 1 | AT16: 0 | AU16: 0 | AV16: 0 | AW16: 0 | AX16: 1 | AY16: 0 | AZ16: 0 | BA16: 0 | BB16: 0 | BC16: 0 | BD16: 0 | BE16: 0 | BF16: 1 | BG16: 0 | BH16: 1 | BI16: 0 | BJ16: 0 | BK16: 0 | BL16: 0 | BM16: 1 | BN16: 0 | BO16: 1 | BP16: 0 | BQ16: 0 | BR16: 0 | BS16: 1 | BT16: 0 | BU16: 2 | BV16: 0 | BW16: 0 | BX16: 2 | BY16: 1 | BZ16: 1 | CA16: 1 | CB16: 1 | CC16: 1 | CD16: 0 | CE16: 1 | CF16: 0 | CG16: 2 | CH16: 1 | CI16: 2 | CJ16: 2 | CK16: 2 | CL16: 2 | CM16: 1 | CN16: 2 | CO16: 0 | CP16: 2 | CQ16: 2 | CR16: 3.3333333 | CS16: 1.25 | CT16: 4.5833333 | CU16: 2.0833333 | CV16: 4.1666667 | CW16: 0.83333333 | CX16: 5 | CY16: 5 | CZ16: 4.375 | DA16: 2.5 | DB16: 5 | DC16: 0 | DD16: 5 | DE16: 0 | DF16: 4.5 | DG16: 3.5 | DH16: 2
