Workbook
Name Slicer_Economy3: #N/A
Name Slicer_Type: #N/A
Name Slicer_Type1: #N/A
Name Slicer_Type2: #N/A
Name vActivity: '[1]Auxiliary Tables'!$O$7:$O$100
Name vContract: '[1]Auxiliary Tables'!$H$7:$H$16
Name vCostFinan: '[1]Auxiliary Tables'!$G$7:$G$26
Name vCostSource: '[1]Auxiliary Tables'!$E$7:$E$10
Name vCosttype: '[1]Auxiliary Tables'!$D$7:$D$9
Name vCurrency: '[2]Auxiliary Tables'!$F$7:$F$212
Name vReportType: '[1]Auxiliary Tables'!$C$7:$C$20
Name vTerrain: '[1]Auxiliary Tables'!$P$7:$P$11
Name vType: '[1]Auxiliary Tables'!$N$7:$N$44

Sheet Home
C31: version November 2024
C33: Developed with the support of: Asian Development Bank and Asian Infrastructure Investment Bank
C39: See terms of use at https://asiantransportoutlook.com/termsofservice

Sheet Subregion
A2: < Home
C3: Cost of projects per subregion
C20: Average | D20: Minimum | E20: Maximum
B21: Central and West Asia | C21: 2.2514276 | D21: 0.0066515792 | E21: 23.005702 | F21: mln. USD (constant 2015) per km
B22: East Asia | C22: 61.648952 | D22: 0.039780414 | E22: 642.48167
B23: Pacific | C23: 50.15021 | D23: 0.0032152339 | E23: 838.8071
B24: South Asia | C24: 11.080432 | D24: 0.0012428374 | E24: 44.984376
B25: South East Asia | C25: 11.465041 | D25: 0.00036623889 | E25: 421.77454
B26: Iran & Russia | C26: 17.21009 | D26: 0.0049993192 | E26: 61.299853

Sheet Income
A2: < Home
C3: Cost of projects per income level
C20: Average | D20: Minimum | E20: Maximum
B21: High income | C21: 192.66991 | D21: 0.28492635 | E21: 838.8071 | F21: mln. USD (constant 2015) per km
B22: Upper middle income | C22: 44.236389 | D22: 0.0066515792 | E22: 105.74086
B23: Low and lower middle income | C23: 6.573396 | D23: 0.00036623889 | E23: 69.463026

Sheet Economy
A2: < Home
C3: Cost of projects per economy
C20: Average | D20: Minimum | E20: Maximum
B21: Afghanistan | C21: 0.42323899 | D21: 0.021636639 | E21: 2.1572666 | F21: mln. USD (constant 2015) per km
B22: Armenia | C22: 0.26748 | D22: 0.1647583 | E22: 0.3664949
B23: Australia | C23: 51.194047 | D23: 0.47616279 | E23: 202.15634
B24: Azerbaijan | C24: 1.1590775 | D24: 0.43829497 | E24: 2.3504643
B25: Bangladesh | C25: 1.2577783 | D25: 0.11270036 | E25: 2.0612762
B26: Cambodia | C26: 0.21059021 | D26: 0.04010478 | E26: 2.4572758
B27: Georgia | C27: 2.8970597 | D27: 0.072879414 | E27: 10.055679
B28: Hong Kong, China | C28: 462.74499 | D28: 254.80869 | E28: 642.48167
B29: India | C29: 12.955702 | D29: 0.021240759 | E29: 44.984376
B30: Indonesia | C30: 2.6441989 | D30: 0.051197475 | E30: 45.977011
B31: Iran (Islamic Republic of) | C31: 10.350928 | D31: 0.0049993192 | E31: 33.382551
B32: Japan | C32: 185.40698 | D32: 0.28492635 | E32: 478.25863
B33: Kazakhstan | C33: 0.35557776 | D33: 0.0066515792 | E33: 1.0524242
... B57: Kiribati | C57: 1.5705229 | D57: 1.5705229 | E57: 1.5705229

Sheet Typology
A2: < Home
C3: Cost of projects per project type
C20: Average | D20: Minimum | E20: Maximum
B21: Rail Transport (non-urban) | C21: 10.558212 | D21: 0.021240759 | E21: 73.895175 | F21: mln. USD (constant 2015) per km
B22: Heavy Railway Construction | C22: 7.0804927 | D22: 0.021240759 | E22: 51.689924
B23: Heavy Railway Electrification | C23: 0.19698357 | D23: 0.19698357 | E23: 0.19698357
B24: High Speed Railway | C24: 16.693952 | D24: 0.28492635 | E24: 73.895175
B25: Road Asset Management | C25: 0.16241653 | D25: 0.00036623889 | E25: 2.2155164
B26: Asphalt Mix Resurfacing | C26: 0.064550456 | D26: 0.01798452 | E26: 0.26225919
B27: Bituminous Pavement Preventive Treatment | C27: 0.022068798 | D27: 0.018612524 | E27: 0.024838552
B28: Gravel Resurfacing | C28: 0.0059326783 | D28: 0.0028683459 | E28: 0.0080696845
B29: Partial Widening and Reconstruction | C29: 0.38108645 | D29: 0.38108645 | E29: 0.38108645
B30: Reconstruction | C30: 0.28257642 | D30: 0.021636639 | E30: 1.0524242
B31: Routine Maintenance | C31: 0.0028500017 | D31: 0.00036623889 | E31: 0.0074469405
B32: Strengthening | C32: 0.25748731 | D32: 0.072879414 | E32: 0.63178095
B33: Surface Treatment Resurfacing | C33: 0.011036335 | D33: 0.0063958003 | E33: 0.016241215
... B47: Metro | C47: 88.570468 | D47: 0.0049993192 | E47: 838.8071

Sheet Output
A1: < Home
A2: ATO Country Code | B2: Economy | C2: City | D2: Region | E2: Income Level | F2: ADB Subregion | G2: Name of Project | H2: Project Type | I2: Typology (predominant) | J2: Type | K2: Length (km) | L2: Cost in Local Currency (M) | M2: Cost (M), USD 2015 constant | N2: Cost (M)/km, USD 2015 constant | O2: Year | P2: Remarks | Q2: Link/Source | R2: Link/Source2
A3: AFG | B3: Afghanistan | D3: Southern Asia | E3: Low and lower middle income | F3: Central and West Asia | G3: Afghanistan: Hairatan to Mazar-e-Sharif Railway Project | H3: Heavy Railway Construction | I3: Rail Transport (non-urban) | J3: Rail Transport (non-urban) - Heavy Railway Construction | K3: 75 | M3: 161.79499 | N3: 2.1572666 | Q3: AIIB Cost Database
A4: AFG | B4: Afghanistan | D4: Southern Asia | E4: Low and lower middle income | F4: Central and West Asia | G4: Afghanistan: Rural Access Project | H4: Widening and Reconstruction | I4: Road Construction | J4: Road Construction - Widening and Reconstruction | K4: 2550 | M4: 120.77544 | N4: 0.047362918 | Q4: AIIB Cost Database
A5: AFG | B5: Afghanistan | D5: Southern Asia | E5: Low and lower middle income | F5: Central and West Asia | G5: Afghanistan: Rural Access Project | H5: Widening and Reconstruction | I5: Road Construction | J5: Road Construction - Widening and Reconstruction | K5: 2550 | M5: 122.64594 | N5: 0.048096448 | Q5: AIIB Cost Database
A6: AFG | B6: Afghanistan | D6: Southern Asia | E6: Low and lower middle income | F6: Central and West Asia | G6: P078284 | H6: Strengthening | I6: Road Asset Management | J6: Road Asset Management - Strengthening | K6: 345 | L6: 4950.0895 | M6: 124.64476 | N6: 0.36128915 | O6: 39448 | Q6: https://www.doingbusiness.org/en/reports/thematic-reports/road-costs-knowledge-system
A7: AFG | B7: Afghanistan | D7: Southern Asia | E7: Low and lower middle income | F7: Central and West Asia | G7: P078284 | H7: Strengthening | I7: Road Asset Management | J7: Road Asset Management - Strengthening | K7: 175 | L7: 3383.8091 | M7: 85.205338 | N7: 0.48688765 | O7: 39448 | Q7: https://www.doingbusiness.org/en/reports/thematic-reports/road-costs-knowledge-system
A8: AFG | B8: Afghanistan | D8: Southern Asia | E8: Low and lower middle income | F8: Central and West Asia | G8: P078284 | H8: Strengthening | I8: Road Asset Management | J8: Road Asset Management - Strengthening | K8: 170 | L8: 1566.2805 | M8: 39.439418 | N8: 0.23199657 | O8: 39448 | Q8: https://www.doingbusiness.org/en/reports/thematic-reports/road-costs-knowledge-system
A9: AFG | B9: Afghanistan | D9: Southern Asia | E9: Low and lower middle income | F9: Central and West Asia | G9: P082472 | H9: Reconstruction | I9: Road Asset Management | J9: Road Asset Management - Reconstruction | K9: 2000 | L9: 1718.5368 | M9: 43.273278 | N9: 0.021636639 | O9: 39448 | Q9: https://www.doingbusiness.org/en/reports/thematic-reports/road-costs-knowledge-system
A10: AFG | B10: Afghanistan | D10: Southern Asia | E10: Low and lower middle income | F10: Central and West Asia | G10: P082472 | H10: Reconstruction | I10: Road Asset Management | J10: Road Asset Management - Reconstruction | K10: 1516.7 | L10: 1889.888 | M10: 47.587953 | N10: 0.031375983 | O10: 39448 | Q10: https://www.doingbusiness.org/en/reports/thematic-reports/road-costs-knowledge-system
A11: ARM | B11: Armenia | D11: Western Asia | E11: Upper middle income | F11: Central and West Asia | G11: P044829 | H11: Asphalt Mix Resurfacing | I11: Road Asset Management | J11: Road Asset Management - Asphalt Mix Resurfacing | K11: 11.6 | L11: 535.49372 | M11: 1.9111963 | N11: 0.1647583 | O11: 38353 | Q11: https://www.doingbusiness.org/en/reports/thematic-reports/road-costs-knowledge-system
A12: ARM | B12: Armenia | D12: Western Asia | E12: Upper middle income | F12: Central and West Asia | G12: P115486 | H12: Reconstruction | I12: Road Asset Management | J12: Road Asset Management - Reconstruction | K12: 99.8 | L12: 9844.977 | M12: 36.576191 | N12: 0.3664949 | O12: 39814 | Q12: https://www.doingbusiness.org/en/reports/thematic-reports/road-costs-knowledge-system
A13: ARM | B13: Armenia | D13: Western Asia | E13: Upper middle income | F13: Central and West Asia | G13: P115486 | H13: Reconstruction | I13: Road Asset Management | J13: Road Asset Management - Reconstruction | K13: 446 | L13: 47761.636 | M13: 120.94931 | N13: 0.2711868 | O13: 41640 | Q13: https://www.doingbusiness.org/en/reports/thematic-reports/road-costs-knowledge-system
A14: AUS | B14: Australia | D14: Australia and New Zealand | E14: High income | F14: Pacific | G14: Ballarat Line Duplication (Deer Park - Melton) | H14: Heavy Railway Construction | I14: Rail Transport (non-urban) | J14: Rail Transport (non-urban) - Heavy Railway Construction | K14: 18 | M14: 384.71779 | N14: 21.373211 | Q14: AIIB Cost Database
A15: AUS | B15: Australia | C15: Brisbane | D15: Australia and New Zealand | E15: High income | F15: Pacific | G15: Brisbane,BRTS | H15: BRTS | I15: Urban Public Transport | J15: Urban Public Transport - BRTS | K15: 28.4 | L15: 1735.1348 | M15: 1560.5062 | N15: 54.947403 | O15: 39814 | P15: Total System Cost (System's total planning and capital costs) | Q15: https://brtdata.org/
A16: AUS | B16: Australia | D16: Australia and New Zealand | E16: High income | F16: Pacific | G16: Eliwana Railway (Solomon Mine - Eliwana Iron Ore Mine) | H16: Heavy Railway Construction | I16: Rail Transport (non-urban) | J16: Rail Transport (non-urban) - Heavy Railway Construction | K16: 143 | M16: 736.97756 | N16: 5.1536892 | Q16: AIIB Cost Database
A17: AUS | B17: Australia | D17: Australia and New Zealand | E17: High income | F17: Pacific | G17: Mernda (Victoria) Extension | H17: Heavy Railway Construction | I17: Rail Transport (non-urban) | J17: Rail Transport (non-urban) - Heavy Railway Construction | K17: 8 | M17: 357.65403 | N17: 44.706754 | Q17: AIIB Cost Database
A18: AUS | B18: Australia | D18: Australia and New Zealand | E18: High income | F18: Pacific | G18: Moreton Bay Rail Link (Brisbane) | H18: Heavy Railway Construction | I18: Rail Transport (non-urban) | J18: Rail Transport (non-urban) - Heavy Railway Construction | K18: 14 | M18: 723.65894 | N18: 51.689924 | Q18: AIIB Cost Database
A19: AUS | B19: Australia | D19: Australia and New Zealand | E19: High income | F19: Pacific | G19: Roy Hill Mine - Port Hedland Railway | H19: Heavy Railway Construction | I19: Rail Transport (non-urban) | J19: Rail Transport (non-urban) - Heavy Railway Construction | K19: 344 | M19: 163.8 | N19: 0.47616279 | Q19: AIIB Cost Database
A20: AUS | B20: Australia | D20: Australia and New Zealand | E20: High income | F20: Pacific | G20: Sydney Metro Phase 1 Northwest (Northwest Rail Link) | H20: Metro | I20: Urban Public Transport | J20: Urban Public Transport - Metro | K20: 23 | M20: 4649.5959 | N20: 202.15634 | Q20: AIIB Cost Database
A21: AUS | B21: Australia | D21: Australia and New Zealand | E21: High income | F21: Pacific | G21: Victoria Regional Rail Link | H21: Heavy Railway Construction | I21: Rail Transport (non-urban) | J21: Rail Transport (non-urban) - Heavy Railway Construction | K21: 90 | M21: 2614.4 | N21: 29.048889 | Q21: AIIB Cost Database
A22: AZE | B22: Azerbaijan | D22: Western Asia | E22: Upper middle income | F22: Central and West Asia | G22: Azerbaijan: MFF-Road Network Development Program | H22: New 4L Expressway | I22: Road Construction | J22: Road Construction - New 4L Expressway | K22: 177 | M22: 416.03218 | N22: 2.3504643 | Q22: AIIB Cost Database
A23: AZE | B23: Azerbaijan | D23: Western Asia | E23: Upper middle income | F23: Central and West Asia | G23: Azerbaijan: Railway Sector Development Program | H23: Heavy Railway Construction | I23: Rail Transport (non-urban) | J23: Rail Transport (non-urban) - Heavy Railway Construction | K23: 166 | M23: 219.15291 | N23: 1.3201983 | Q23: AIIB Cost Database
A24: AZE | B24: Azerbaijan | D24: Western Asia | E24: Upper middle income | F24: Central and West Asia | G24: P040716 | H24: Reconstruction | I24: Road Asset Management | J24: Road Asset Management - Reconstruction | K24: 21.3 | L24: 6.028375 | M24: 9.3356828 | N24: 0.43829497 | O24: 39814 | Q24: https://www.doingbusiness.org/en/reports/thematic-reports/road-costs-knowledge-system
A25: AZE | B25: Azerbaijan | D25: Western Asia | E25: Upper middle income | F25: Central and West Asia | G25: P040716 | H25: Reconstruction | I25: Road Asset Management | J25: Road Asset Management - Reconstruction | K25: 72.7 | L25: 24.756527 | M25: 38.338537 | N25: 0.52735265 | O25: 39814 | Q25: https://www.doingbusiness.org/en/reports/thematic-reports/road-costs-knowledge-system
A26: BGD | B26: Bangladesh | D26: Southern Asia | E26: Low and lower middle income | F26: South Asia | G26: Bangladesh: City Region Development Project | H26: Widening and Reconstruction | I26: Road Construction | J26: Road Construction - Widening and Reconstruction | K26: 258.76 | M26: 234.27207 | N26: 0.90536433 | Q26: AIIB Cost Database
A27: BGD | B27: Bangladesh | D27: Southern Asia | E27: Low and lower middle income | F27: South Asia | G27: Bangladesh: Sylhet to Tamabil Road Upgrade Project | H27: Widening | I27: Road Construction | J27: Road Construction - Widening | K27: 286 | M27: 348.48401 | N27: 1.2184756 | Q27: AIIB Cost Database
A28: BGD | B28: Bangladesh | D28: Southern Asia | E28: Low and lower middle income | F28: South Asia | G28: Dhaka MRT-5 (Southern Route) | H28: Metro | I28: Urban Public Transport | J28: Urban Public Transport - Metro | K28: 17.4 | M28: 35.866206 | N28: 2.0612762 | Q28: AIIB Cost Database
A29: BGD | B29: Bangladesh | D29: Southern Asia | E29: Low and lower middle income | F29: South Asia | G29: Dohazari - Ramu - Cox's Bazar Phase 1 | H29: Heavy Railway Construction | I29: Rail Transport (non-urban) | J29: Rail Transport (non-urban) - Heavy Railway Construction | K29: 128 | L29: 25039.861 | M29: 254.85763 | N29: 1.9910752 | O29: 43101 | P29: Construction starting year is considered as year of study | Q29: https://irjpro.com/#/app/home
A30: BGD | B30: Bangladesh | D30: Southern Asia | E30: Low and lower middle income | F30: South Asia | G30: Rural Transport Improvement Project | H30: Partial Widening | I30: Road Construction | J30: Road Construction - Partial Widening | K30: 1115 | M30: 125.6609 | N30: 0.11270036 | Q30: AIIB Cost Database
A31: CHN | B31: People's Republic of China | D31: Eastern Asia | E31: Upper middle income | F31: East Asia | G31: Anhui Highway Rehabilitation and Improvement Project (P099112) | H31: Widening and Reconstruction | I31: Road Construction | J31: Road Construction - Widening and Reconstruction | K31: 320.6 | M31: 262.70838 | N31: 0.81942727 | Q31: AIIB Cost Database
A32: CHN | B32: People's Republic of China | C32: Baotou | D32: Eastern Asia | E32: Upper middle income | F32: East Asia | G32: Baotou Metro Line 2 | H32: Metro | I32: Urban Public Transport | J32: Urban Public Transport - Metro | K32: 14.3 | L32: 10360 | M32: 1386.7171 | N32: 96.973221 | O32: 43101 | P32: Construction starting year is considered as year of study | Q32: https://irjpro.com/#/app/home
A33: CHN | B33: People's Republic of China | D33: Eastern Asia | E33: Upper middle income | F33: East Asia | G33: Beijing - Harbin | H33: High Speed Railway | I33: Rail Transport (non-urban) | J33: Rail Transport (non-urban) - High Speed Railway | K33: 1700 | M33: 2515.5329 | N33: 1.4797252 | Q33: AIIB Cost Database
A34: CHN | B34: People's Republic of China | D34: Eastern Asia | E34: Upper middle income | F34: East Asia | G34: Beijing - Shenyang HSL | H34: High Speed Railway | I34: Rail Transport (non-urban) | J34: Rail Transport (non-urban) - High Speed Railway | K34: 698 | L34: 66986.162 | M34: 11060.389 | N34: 15.845829 | O34: 41640 | P34: Construction starting year is considered as year of study | Q34: https://irjpro.com/#/app/home
A35: CHN | B35: People's Republic of China | C35: Beijing | D35: Eastern Asia | E35: Upper middle income | F35: East Asia | G35: Beijing Line 17 (Express Line) | H35: Metro | I35: Urban Public Transport | J35: Urban Public Transport - Metro | K35: 49.7 | L35: 10585 | M35: 1469.3137 | N35: 29.563656 | O35: 42370 | P35: Construction starting year is considered as year of study | Q35: https://irjpro.com/#/app/home
A36: CHN | B36: People's Republic of China | D36: Eastern Asia | E36: Upper middle income | F36: East Asia | G36: Beijing Western Suburban Line (Bagou - Fragrant Hills) | H36: Metro | I36: Urban Public Transport | J36: Urban Public Transport - Metro | K36: 9.1 | M36: 478.16646 | N36: 52.545765 | Q36: AIIB Cost Database
A37: CHN | B37: People's Republic of China | C37: Beijing | D37: Eastern Asia | E37: Upper middle income | F37: East Asia | G37: Beijing Yanfang line | H37: Metro | I37: Urban Public Transport | J37: Urban Public Transport - Metro | K37: 14.4 | L37: 8840 | M37: 1227.0588 | N37: 85.212417 | O37: 42370 | P37: Construction starting year is considered as year of study | Q37: https://irjpro.com/#/app/home
A38: CHN | B38: People's Republic of China | D38: Eastern Asia | E38: Upper middle income | F38: East Asia | G38: Beijing Yanfang line | H38: Metro | I38: Urban Public Transport | J38: Urban Public Transport - Metro | K38: 14.4 | M38: 1207.8166 | N38: 83.876156 | Q38: AIIB Cost Database
A39: CHN | B39: People's Republic of China | C39: Beijing | D39: Eastern Asia | E39: Upper middle income | F39: East Asia | G39: Beijing,Daxing Airport Express Phase 1 | H39: Metro | I39: Urban Public Transport | J39: Urban Public Transport - Metro | K39: 44 | L39: 27820 | M39: 3699.861 | N39: 84.08775 | O39: 43466 | P39: Costs include all construction and construction-related expenditures, but not rolling stock | Q39: http://www.tzxm.gov.cn/flfg/law/201912/t20191220_12825.html | R39: https://transitcosts.com/data/
A40: CHN | B40: People's Republic of China | C40: Beijing | D40: Eastern Asia | E40: Upper middle income | F40: East Asia | G40: Beijing,Line 13 | H40: Metro | I40: Urban Public Transport | J40: Urban Public Transport - Metro | K40: 40.85 | L40: 6570 | M40: 1130.3531 | N40: 27.670822 | O40: 36161 | P40: Costs include all construction and construction-related expenditures, but not rolling stock | Q40: http://www.wikiwand.com/zh-sg/%E5%8C%97%E4%BA%AC%E5%9C%B0%E9%93%8113%E5%8F%B7%E7%BA%BF | R40: https://transitcosts.com/data/
...

Sheet Cost Analysis
A2: Asia-Pacific | D2: Active Mobility Project | E2: Air Transport | F2: Rail Transport (non-urban) | I2: Road Asset Management | S2: Road Construction | AA2: Urban Public Transport
D3: Elevated walkway | E3: Airport Infrastructure | F3: Heavy Railway Electrification | G3: High Speed Railway | H3: Heavy Railway Construction | I3: Reconstruction | J3: Strengthening | K3: Upgrading | L3: Asphalt Mix Resurfacing | M3: Surface Treatment Resurfacing | N3: Partial Widening and Reconstruction | O3: Bituminous Pavement Preventive Treatment | P3: Gravel Resurfacing | Q3: Routine Maintenance | R3: Upgrading and Climate Proofing | S3: Widening | T3: Partial Widening | U3: New 1L Road | V3: New 6L Expressway | W3: New 4L Expressway | X3: Widening and Reconstruction | Y3: New 2L Highway | Z3: New 2L Highway with Climate Proofing | AA3: Metro | AB3: Light Rail | AC3: BRTS | AD3: Primary | AE3: Secondary | AF3: Tertiary
A4: AVERAGE | D4: =AVERAGEIFS(Output!$N$3:$N$992,Output!$H$3:$H$992,D$3,Output!#REF!,1) -> #REF! | E4: =AVERAGEIFS(Output!$N$3:$N$992,Output!$H$3:$H$992,E$3,Output!#REF!,1) -> #REF! | F4: =AVERAGEIFS(Output!$N$3:$N$992,Output!$H$3:$H$992,F$3,Output!#REF!,1) -> #REF! | G4: =AVERAGEIFS(Output!$N$3:$N$992,Output!$H$3:$H$992,G$3,Output!#REF!,1) -> #REF! | H4: =AVERAGEIFS(Output!$N$3:$N$992,Output!$H$3:$H$992,H$3,Output!#REF!,1) -> #REF! | I4: =AVERAGEIFS(Output!$N$3:$N$992,Output!$H$3:$H$992,I$3,Output!#REF!,1) -> #REF! | J4: =AVERAGEIFS(Output!$N$3:$N$992,Output!$H$3:$H$992,J$3,Output!#REF!,1) -> #REF! | K4: =AVERAGEIFS(Output!$N$3:$N$992,Output!$H$3:$H$992,K$3,Output!#REF!,1) -> #REF! | ... AC4: =AVERAGEIFS(Output!$N$3:$N$992,Output!$H$3:$H$992,AC$3,Output!#REF!,1) -> #REF! | AD4: {=AVERAGE(IF(((Output!$H$3:$H$992="New 6L Expressway")+(Output!$H$3:$H$992="New 4L Expressway"))*(Output!#REF!=1),Output!$N$3:$N$992))} -> #REF! | AE4: =AVERAGEIFS(Output!$N$3:$N$992,Output!$H$3:$H$992,"New 2L Highway",Output!#REF!,1) -> #REF! | AF4: =AVERAGEIFS(Output!$N$3:$N$992,Output!$H$3:$H$992,"New 1L Road",Output!#REF!,1) -> #REF!
A5: MIN | D5: =_xlfn.MINIFS(Output!$N$3:$N$992,Output!$H$3:$H$992,D$3,Output!#REF!,1) -> #REF! | E5: =_xlfn.MINIFS(Output!$N$3:$N$992,Output!$H$3:$H$992,E$3,Output!#REF!,1) -> #REF! | F5: =_xlfn.MINIFS(Output!$N$3:$N$992,Output!$H$3:$H$992,F$3,Output!#REF!,1) -> #REF! | G5: =_xlfn.MINIFS(Output!$N$3:$N$992,Output!$H$3:$H$992,G$3,Output!#REF!,1) -> #REF! | H5: =_xlfn.MINIFS(Output!$N$3:$N$992,Output!$H$3:$H$992,H$3,Output!#REF!,1) -> #REF! | I5: =_xlfn.MINIFS(Output!$N$3:$N$992,Output!$H$3:$H$992,I$3,Output!#REF!,1) -> #REF! | J5: =_xlfn.MINIFS(Output!$N$3:$N$992,Output!$H$3:$H$992,J$3,Output!#REF!,1) -> #REF! | K5: =_xlfn.MINIFS(Output!$N$3:$N$992,Output!$H$3:$H$992,K$3,Output!#REF!,1) -> #REF! | ... AC5: =_xlfn.MINIFS(Output!$N$3:$N$992,Output!$H$3:$H$992,AC$3,Output!#REF!,1) -> #REF!
A6: MAX | D6: =_xlfn.MAXIFS(Output!$N$3:$N$992,Output!$H$3:$H$992,D$3,Output!#REF!,1) -> #REF! | E6: =_xlfn.MAXIFS(Output!$N$3:$N$992,Output!$H$3:$H$992,E$3,Output!#REF!,1) -> #REF! | F6: =_xlfn.MAXIFS(Output!$N$3:$N$992,Output!$H$3:$H$992,F$3,Output!#REF!,1) -> #REF! | G6: =_xlfn.MAXIFS(Output!$N$3:$N$992,Output!$H$3:$H$992,G$3,Output!#REF!,1) -> #REF! | H6: =_xlfn.MAXIFS(Output!$N$3:$N$992,Output!$H$3:$H$992,H$3,Output!#REF!,1) -> #REF! | I6: =_xlfn.MAXIFS(Output!$N$3:$N$992,Output!$H$3:$H$992,I$3,Output!#REF!,1) -> #REF! | J6: =_xlfn.MAXIFS(Output!$N$3:$N$992,Output!$H$3:$H$992,J$3,Output!#REF!,1) -> #REF! | K6: =_xlfn.MAXIFS(Output!$N$3:$N$992,Output!$H$3:$H$992,K$3,Output!#REF!,1) -> #REF! | ... AC6: =_xlfn.MAXIFS(Output!$N$3:$N$992,Output!$H$3:$H$992,AC$3,Output!#REF!,1) -> #REF!
A8: AVERAGE
A9: Eastern Europe | D9: =IFERROR(ROUND(AVERAGEIFS(Output!$N$3:$N$992,Output!$H$3:$H$992,D$3,Output!#REF!,1,Output!$F$3:$F$992,$A9),1)&" ["&ROUND(_xlfn.MINIFS(Output!$N$3:$N$992,Output!$H$3:$H$992,D$3,Output!#REF!,1,Output!$F$3:$F$992,$A9),1)&"-"&ROUND(_xlfn.MAXIFS(Output!$N$3:$N$992,Output!$H$3:$H$992,D$3,Output!#REF!,1,Output!$F$3:$F$992,$A9),1)&"]","") | E9: =IFERROR(ROUND(AVERAGEIFS(Output!$N$3:$N$992,Output!$H$3:$H$992,E$3,Output!#REF!,1,Output!$F$3:$F$992,$A9),1)&" ["&ROUND(_xlfn.MINIFS(Output!$N$3:$N$992,Output!$H$3:$H$992,E$3,Output!#REF!,1,Output!$F$3:$F$992,$A9),1)&"-"&ROUND(_xlfn.MAXIFS(Output!$N$3:$N$992,Output!$H$3:$H$992,E$3,Output!#REF!,1,Output!$F$3:$F$992,$A9),1)&"]","") | F9: =IFERROR(ROUND(AVERAGEIFS(Output!$N$3:$N$992,Output!$H$3:$H$992,F$3,Output!#REF!,1,Output!$F$3:$F$992,$A9),1)&" ["&ROUND(_xlfn.MINIFS(Output!$N$3:$N$992,Output!$H$3:$H$992,F$3,Output!#REF!,1,Output!$F$3:$F$992,$A9),1)&"-"&ROUND(_xlfn.MAXIFS(Output!$N$3:$N$992,Output!$H$3:$H$992,F$3,Output!#REF!,1,Output!$F$3:$F$992,$A9),1)&"]","") | G9: =IFERROR(ROUND(AVERAGEIFS(Output!$N$3:$N$992,Output!$H$3:$H$992,G$3,Output!#REF!,1,Output!$F$3:$F$992,$A9),0)&" ["&ROUND(_xlfn.MINIFS(Output!$N$3:$N$992,Output!$H$3:$H$992,G$3,Output!#REF!,1,Output!$F$3:$F$992,$A9),0)&"-"&ROUND(_xlfn.MAXIFS(Output!$N$3:$N$992,Output!$H$3:$H$992,G$3,Output!#REF!,1,Output!$F$3:$F$992,$A9),0)&"]","") | H9: =IFERROR(ROUND(AVERAGEIFS(Output!$N$3:$N$992,Output!$H$3:$H$992,H$3,Output!#REF!,1,Output!$F$3:$F$992,$A9),0)&" ["&ROUND(_xlfn.MINIFS(Output!$N$3:$N$992,Output!$H$3:$H$992,H$3,Output!#REF!,1,Output!$F$3:$F$992,$A9),0)&"-"&ROUND(_xlfn.MAXIFS(Output!$N$3:$N$992,Output!$H$3:$H$992,H$3,Output!#REF!,1,Output!$F$3:$F$992,$A9),0)&"]","") | I9: =IFERROR(ROUND(AVERAGEIFS(Output!$N$3:$N$992,Output!$H$3:$H$992,I$3,Output!#REF!,1,Output!$F$3:$F$992,$A9),1)&" ["&ROUND(_xlfn.MINIFS(Output!$N$3:$N$992,Output!$H$3:$H$992,I$3,Output!#REF!,1,Output!$F$3:$F$992,$A9),1)&"-"&ROUND(_xlfn.MAXIFS(Output!$N$3:$N$992,Output!$H$3:$H$992,I$3,Output!#REF!,1,Output!$F$3:$F$992,$A9),1)&"]","") | J9: =IFERROR(ROUND(AVERAGEIFS(Output!$N$3:$N$992,Output!$H$3:$H$992,J$3,Output!#REF!,1,Output!$F$3:$F$992,$A9),1)&" ["&ROUND(_xlfn.MINIFS(Output!$N$3:$N$992,Output!$H$3:$H$992,J$3,Output!#REF!,1,Output!$F$3:$F$992,$A9),1)&"-"&ROUND(_xlfn.MAXIFS(Output!$N$3:$N$992,Output!$H$3:$H$992,J$3,Output!#REF!,1,Output!$F$3:$F$992,$A9),1)&"]","") | K9: =IFERROR(ROUND(AVERAGEIFS(Output!$N$3:$N$992,Output!$H$3:$H$992,K$3,Output!#REF!,1,Output!$F$3:$F$992,$A9),1)&" ["&ROUND(_xlfn.MINIFS(Output!$N$3:$N$992,Output!$H$3:$H$992,K$3,Output!#REF!,1,Output!$F$3:$F$992,$A9),1)&"-"&ROUND(_xlfn.MAXIFS(Output!$N$3:$N$992,Output!$H$3:$H$992,K$3,Output!#REF!,1,Output!$F$3:$F$992,$A9),1)&"]","") | L9: =IFERROR(ROUND(AVERAGEIFS(Output!$N$3:$N$992,Output!$H$3:$H$992,L$3,Output!#REF!,1,Output!$F$3:$F$992,$A9),1)&" ["&ROUND(_xlfn.MINIFS(Output!$N$3:$N$992,Output!$H$3:$H$992,L$3,Output!#REF!,1,Output!$F$3:$F$992,$A9),1)&"-"&ROUND(_xlfn.MAXIFS(Output!$N$3:$N$992,Output!$H$3:$H$992,L$3,Output!#REF!,1,Output!$F$3:$F$992,$A9),1)&"]","") | M9: =IFERROR(ROUND(AVERAGEIFS(Output!$N$3:$N$992,Output!$H$3:$H$992,M$3,Output!#REF!,1,Output!$F$3:$F$992,$A9),1)&" ["&ROUND(_xlfn.MINIFS(Output!$N$3:$N$992,Output!$H$3:$H$992,M$3,Output!#REF!,1,Output!$F$3:$F$992,$A9),1)&"-"&ROUND(_xlfn.MAXIFS(Output!$N$3:$N$992,Output!$H$3:$H$992,M$3,Output!#REF!,1,Output!$F$3:$F$992,$A9),1)&"]","") | N9: =IFERROR(ROUND(AVERAGEIFS(Output!$N$3:$N$992,Output!$H$3:$H$992,N$3,Output!#REF!,1,Output!$F$3:$F$992,$A9),1)&" ["&ROUND(_xlfn.MINIFS(Output!$N$3:$N$992,Output!$H$3:$H$992,N$3,Output!#REF!,1,Output!$F$3:$F$992,$A9),1)&"-"&ROUND(_xlfn.MAXIFS(Output!$N$3:$N$992,Output!$H$3:$H$992,N$3,Output!#REF!,1,Output!$F$3:$F$992,$A9),1)&"]","") | O9: =IFERROR(ROUND(AVERAGEIFS(Output!$N$3:$N$992,Output!$H$3:$H$992,O$3,Output!#REF!,1,Output!$F$3:$F$992,$A9),1)&" ["&ROUND(_xlfn.MINIFS(Output!$N$3:$N$992,Output!$H$3:$H$992,O$3,Output!#REF!,1,Output!$F$3:$F$992,$A9),1)&"-"&ROUND(_xlfn.MAXIFS(Output!$N$3:$N$992,Output!$H$3:$H$992,O$3,Output!#REF!,1,Output!$F$3:$F$992,$A9),1)&"]","") | P9: =IFERROR(ROUND(AVERAGEIFS(Output!$N$3:$N$992,Output!$H$3:$H$992,P$3,Output!#REF!,1,Output!$F$3:$F$992,$A9),1)&" ["&ROUND(_xlfn.MINIFS(Output!$N$3:$N$992,Output!$H$3:$H$992,P$3,Output!#REF!,1,Output!$F$3:$F$992,$A9),1)&"-"&ROUND(_xlfn.MAXIFS(Output!$N$3:$N$992,Output!$H$3:$H$992,P$3,Output!#REF!,1,Output!$F$3:$F$992,$A9),1)&"]","") | ... Z9: =IFERROR(ROUND(AVERAGEIFS(Output!$N$3:$N$992,Output!$H$3:$H$992,Z$3,Output!#REF!,1,Output!$F$3:$F$992,$A9),1)&" ["&ROUND(_xlfn.MINIFS(Output!$N$3:$N$992,Output!$H$3:$H$992,Z$3,Output!#REF!,1,Output!$F$3:$F$992,$A9),1)&"-"&ROUND(_xlfn.MAXIFS(Output!$N$3:$N$992,Output!$H$3:$H$992,Z$3,Output!#REF!,1,Output!$F$3:$F$992,$A9),1)&"]","") | AA9: =IFERROR(ROUND(AVERAGEIFS(Output!$N$3:$N$992,Output!$H$3:$H$992,AA$3,Output!#REF!,1,Output!$F$3:$F$992,$A9),0)&" ["&ROUND(_xlfn.MINIFS(Output!$N$3:$N$992,Output!$H$3:$H$992,AA$3,Output!#REF!,1,Output!$F$3:$F$992,$A9),0)&"-"&ROUND(_xlfn.MAXIFS(Output!$N$3:$N$992,Output!$H$3:$H$992,AA$3,Output!#REF!,1,Output!$F$3:$F$992,$A9),0)&"]","") | AB9: =IFERROR(ROUND(AVERAGEIFS(Output!$N$3:$N$992,Output!$H$3:$H$992,AB$3,Output!#REF!,1,Output!$F$3:$F$992,$A9),0)&" ["&ROUND(_xlfn.MINIFS(Output!$N$3:$N$992,Output!$H$3:$H$992,AB$3,Output!#REF!,1,Output!$F$3:$F$992,$A9),0)&"-"&ROUND(_xlfn.MAXIFS(Output!$N$3:$N$992,Output!$H$3:$H$992,AB$3,Output!#REF!,1,Output!$F$3:$F$992,$A9),0)&"]","") | AC9: =IFERROR(ROUND(AVERAGEIFS(Output!$N$3:$N$992,Output!$H$3:$H$992,AC$3,Output!#REF!,1,Output!$F$3:$F$992,$A9),0)&" ["&ROUND(_xlfn.MINIFS(Output!$N$3:$N$992,Output!$H$3:$H$992,AC$3,Output!#REF!,1,Output!$F$3:$F$992,$A9),0)&"-"&ROUND(_xlfn.MAXIFS(Output!$N$3:$N$992,Output!$H$3:$H$992,AC$3,Output!#REF!,1,Output!$F$3:$F$992,$A9),0)&"]","")
A10: South East Asia | D10: =IFERROR(ROUND(AVERAGEIFS(Output!$N$3:$N$992,Output!$H$3:$H$992,D$3,Output!#REF!,1,Output!$F$3:$F$992,$A10),1)&" ["&ROUND(_xlfn.MINIFS(Output!$N$3:$N$992,Output!$H$3:$H$992,D$3,Output!#REF!,1,Output!$F$3:$F$992,$A10),1)&"-"&ROUND(_xlfn.MAXIFS(Output!$N$3:$N$992,Output!$H$3:$H$992,D$3,Output!#REF!,1,Output!$F$3:$F$992,$A10),1)&"]","") | E10: =IFERROR(ROUND(AVERAGEIFS(Output!$N$3:$N$992,Output!$H$3:$H$992,E$3,Output!#REF!,1,Output!$F$3:$F$992,$A10),1)&" ["&ROUND(_xlfn.MINIFS(Output!$N$3:$N$992,Output!$H$3:$H$992,E$3,Output!#REF!,1,Output!$F$3:$F$992,$A10),1)&"-"&ROUND(_xlfn.MAXIFS(Output!$N$3:$N$992,Output!$H$3:$H$992,E$3,Output!#REF!,1,Output!$F$3:$F$992,$A10),1)&"]","") | F10: =IFERROR(ROUND(AVERAGEIFS(Output!$N$3:$N$992,Output!$H$3:$H$992,F$3,Output!#REF!,1,Output!$F$3:$F$992,$A10),1)&" ["&ROUND(_xlfn.MINIFS(Output!$N$3:$N$992,Output!$H$3:$H$992,F$3,Output!#REF!,1,Output!$F$3:$F$992,$A10),1)&"-"&ROUND(_xlfn.MAXIFS(Output!$N$3:$N$992,Output!$H$3:$H$992,F$3,Output!#REF!,1,Output!$F$3:$F$992,$A10),1)&"]","") | G10: =IFERROR(ROUND(AVERAGEIFS(Output!$N$3:$N$992,Output!$H$3:$H$992,G$3,Output!#REF!,1,Output!$F$3:$F$992,$A10),0)&" ["&ROUND(_xlfn.MINIFS(Output!$N$3:$N$992,Output!$H$3:$H$992,G$3,Output!#REF!,1,Output!$F$3:$F$992,$A10),0)&"-"&ROUND(_xlfn.MAXIFS(Output!$N$3:$N$992,Output!$H$3:$H$992,G$3,Output!#REF!,1,Output!$F$3:$F$992,$A10),0)&"]","") | H10: =IFERROR(ROUND(AVERAGEIFS(Output!$N$3:$N$992,Output!$H$3:$H$992,H$3,Output!#REF!,1,Output!$F$3:$F$992,$A10),0)&" ["&ROUND(_xlfn.MINIFS(Output!$N$3:$N$992,Output!$H$3:$H$992,H$3,Output!#REF!,1,Output!$F$3:$F$992,$A10),0)&"-"&ROUND(_xlfn.MAXIFS(Output!$N$3:$N$992,Output!$H$3:$H$992,H$3,Output!#REF!,1,Output!$F$3:$F$992,$A10),0)&"]","") | I10: =IFERROR(ROUND(AVERAGEIFS(Output!$N$3:$N$992,Output!$H$3:$H$992,I$3,Output!#REF!,1,Output!$F$3:$F$992,$A10),1)&" ["&ROUND(_xlfn.MINIFS(Output!$N$3:$N$992,Output!$H$3:$H$992,I$3,Output!#REF!,1,Output!$F$3:$F$992,$A10),1)&"-"&ROUND(_xlfn.MAXIFS(Output!$N$3:$N$992,Output!$H$3:$H$992,I$3,Output!#REF!,1,Output!$F$3:$F$992,$A10),1)&"]","") | J10: =IFERROR(ROUND(AVERAGEIFS(Output!$N$3:$N$992,Output!$H$3:$H$992,J$3,Output!#REF!,1,Output!$F$3:$F$992,$A10),1)&" ["&ROUND(_xlfn.MINIFS(Output!$N$3:$N$992,Output!$H$3:$H$992,J$3,Output!#REF!,1,Output!$F$3:$F$992,$A10),1)&"-"&ROUND(_xlfn.MAXIFS(Output!$N$3:$N$992,Output!$H$3:$H$992,J$3,Output!#REF!,1,Output!$F$3:$F$992,$A10),1)&"]","") | K10: =IFERROR(ROUND(AVERAGEIFS(Output!$N$3:$N$992,Output!$H$3:$H$992,K$3,Output!#REF!,1,Output!$F$3:$F$992,$A10),1)&" ["&ROUND(_xlfn.MINIFS(Output!$N$3:$N$992,Output!$H$3:$H$992,K$3,Output!#REF!,1,Output!$F$3:$F$992,$A10),1)&"-"&ROUND(_xlfn.MAXIFS(Output!$N$3:$N$992,Output!$H$3:$H$992,K$3,Output!#REF!,1,Output!$F$3:$F$992,$A10),1)&"]","") | L10: =IFERROR(ROUND(AVERAGEIFS(Output!$N$3:$N$992,Output!$H$3:$H$992,L$3,Output!#REF!,1,Output!$F$3:$F$992,$A10),1)&" ["&ROUND(_xlfn.MINIFS(Output!$N$3:$N$992,Output!$H$3:$H$992,L$3,Output!#REF!,1,Output!$F$3:$F$992,$A10),1)&"-"&ROUND(_xlfn.MAXIFS(Output!$N$3:$N$992,Output!$H$3:$H$992,L$3,Output!#REF!,1,Output!$F$3:$F$992,$A10),1)&"]","") | M10: =IFERROR(ROUND(AVERAGEIFS(Output!$N$3:$N$992,Output!$H$3:$H$992,M$3,Output!#REF!,1,Output!$F$3:$F$992,$A10),1)&" ["&ROUND(_xlfn.MINIFS(Output!$N$3:$N$992,Output!$H$3:$H$992,M$3,Output!#REF!,1,Output!$F$3:$F$992,$A10),1)&"-"&ROUND(_xlfn.MAXIFS(Output!$N$3:$N$992,Output!$H$3:$H$992,M$3,Output!#REF!,1,Output!$F$3:$F$992,$A10),1)&"]","") | N10: =IFERROR(ROUND(AVERAGEIFS(Output!$N$3:$N$992,Output!$H$3:$H$992,N$3,Output!#REF!,1,Output!$F$3:$F$992,$A10),1)&" ["&ROUND(_xlfn.MINIFS(Output!$N$3:$N$992,Output!$H$3:$H$992,N$3,Output!#REF!,1,Output!$F$3:$F$992,$A10),1)&"-"&ROUND(_xlfn.MAXIFS(Output!$N$3:$N$992,Output!$H$3:$H$992,N$3,Output!#REF!,1,Output!$F$3:$F$992,$A10),1)&"]","") | O10: =IFERROR(ROUND(AVERAGEIFS(Output!$N$3:$N$992,Output!$H$3:$H$992,O$3,Output!#REF!,1,Output!$F$3:$F$992,$A10),1)&" ["&ROUND(_xlfn.MINIFS(Output!$N$3:$N$992,Output!$H$3:$H$992,O$3,Output!#REF!,1,Output!$F$3:$F$992,$A10),1)&"-"&ROUND(_xlfn.MAXIFS(Output!$N$3:$N$992,Output!$H$3:$H$992,O$3,Output!#REF!,1,Output!$F$3:$F$992,$A10),1)&"]","") | P10: =IFERROR(ROUND(AVERAGEIFS(Output!$N$3:$N$992,Output!$H$3:$H$992,P$3,Output!#REF!,1,Output!$F$3:$F$992,$A10),1)&" ["&ROUND(_xlfn.MINIFS(Output!$N$3:$N$992,Output!$H$3:$H$992,P$3,Output!#REF!,1,Output!$F$3:$F$992,$A10),1)&"-"&ROUND(_xlfn.MAXIFS(Output!$N$3:$N$992,Output!$H$3:$H$992,P$3,Output!#REF!,1,Output!$F$3:$F$992,$A10),1)&"]","") | ... Z10: =IFERROR(ROUND(AVERAGEIFS(Output!$N$3:$N$992,Output!$H$3:$H$992,Z$3,Output!#REF!,1,Output!$F$3:$F$992,$A10),1)&" ["&ROUND(_xlfn.MINIFS(Output!$N$3:$N$992,Output!$H$3:$H$992,Z$3,Output!#REF!,1,Output!$F$3:$F$992,$A10),1)&"-"&ROUND(_xlfn.MAXIFS(Output!$N$3:$N$992,Output!$H$3:$H$992,Z$3,Output!#REF!,1,Output!$F$3:$F$992,$A10),1)&"]","") | AA10: =IFERROR(ROUND(AVERAGEIFS(Output!$N$3:$N$992,Output!$H$3:$H$992,AA$3,Output!#REF!,1,Output!$F$3:$F$992,$A10),0)&" ["&ROUND(_xlfn.MINIFS(Output!$N$3:$N$992,Output!$H$3:$H$992,AA$3,Output!#REF!,1,Output!$F$3:$F$992,$A10),0)&"-"&ROUND(_xlfn.MAXIFS(Output!$N$3:$N$992,Output!$H$3:$H$992,AA$3,Output!#REF!,1,Output!$F$3:$F$992,$A10),0)&"]","") | AB10: =IFERROR(ROUND(AVERAGEIFS(Output!$N$3:$N$992,Output!$H$3:$H$992,AB$3,Output!#REF!,1,Output!$F$3:$F$992,$A10),0)&" ["&ROUND(_xlfn.MINIFS(Output!$N$3:$N$992,Output!$H$3:$H$992,AB$3,Output!#REF!,1,Output!$F$3:$F$992,$A10),0)&"-"&ROUND(_xlfn.MAXIFS(Output!$N$3:$N$992,Output!$H$3:$H$992,AB$3,Output!#REF!,1,Output!$F$3:$F$992,$A10),0)&"]","") | AC10: =IFERROR(ROUND(AVERAGEIFS(Output!$N$3:$N$992,Output!$H$3:$H$992,AC$3,Output!#REF!,1,Output!$F$3:$F$992,$A10),0)&" ["&ROUND(_xlfn.MINIFS(Output!$N$3:$N$992,Output!$H$3:$H$992,AC$3,Output!#REF!,1,Output!$F$3:$F$992,$A10),0)&"-"&ROUND(_xlfn.MAXIFS(Output!$N$3:$N$992,Output!$H$3:$H$992,AC$3,Output!#REF!,1,Output!$F$3:$F$992,$A10),0)&"]","")
A11: East Asia | D11: =IFERROR(ROUND(AVERAGEIFS(Output!$N$3:$N$992,Output!$H$3:$H$992,D$3,Output!#REF!,1,Output!$F$3:$F$992,$A11),1)&" ["&ROUND(_xlfn.MINIFS(Output!$N$3:$N$992,Output!$H$3:$H$992,D$3,Output!#REF!,1,Output!$F$3:$F$992,$A11),1)&"-"&ROUND(_xlfn.MAXIFS(Output!$N$3:$N$992,Output!$H$3:$H$992,D$3,Output!#REF!,1,Output!$F$3:$F$992,$A11),1)&"]","") | E11: =IFERROR(ROUND(AVERAGEIFS(Output!$N$3:$N$992,Output!$H$3:$H$992,E$3,Output!#REF!,1,Output!$F$3:$F$992,$A11),1)&" ["&ROUND(_xlfn.MINIFS(Output!$N$3:$N$992,Output!$H$3:$H$992,E$3,Output!#REF!,1,Output!$F$3:$F$992,$A11),1)&"-"&ROUND(_xlfn.MAXIFS(Output!$N$3:$N$992,Output!$H$3:$H$992,E$3,Output!#REF!,1,Output!$F$3:$F$992,$A11),1)&"]","") | F11: =IFERROR(ROUND(AVERAGEIFS(Output!$N$3:$N$992,Output!$H$3:$H$992,F$3,Output!#REF!,1,Output!$F$3:$F$992,$A11),1)&" ["&ROUND(_xlfn.MINIFS(Output!$N$3:$N$992,Output!$H$3:$H$992,F$3,Output!#REF!,1,Output!$F$3:$F$992,$A11),1)&"-"&ROUND(_xlfn.MAXIFS(Output!$N$3:$N$992,Output!$H$3:$H$992,F$3,Output!#REF!,1,Output!$F$3:$F$992,$A11),1)&"]","") | G11: =IFERROR(ROUND(AVERAGEIFS(Output!$N$3:$N$992,Output!$H$3:$H$992,G$3,Output!#REF!,1,Output!$F$3:$F$992,$A11),0)&" ["&ROUND(_xlfn.MINIFS(Output!$N$3:$N$992,Output!$H$3:$H$992,G$3,Output!#REF!,1,Output!$F$3:$F$992,$A11),0)&"-"&ROUND(_xlfn.MAXIFS(Output!$N$3:$N$992,Output!$H$3:$H$992,G$3,Output!#REF!,1,Output!$F$3:$F$992,$A11),0)&"]","") | H11: =IFERROR(ROUND(AVERAGEIFS(Output!$N$3:$N$992,Output!$H$3:$H$992,H$3,Output!#REF!,1,Output!$F$3:$F$992,$A11),0)&" ["&ROUND(_xlfn.MINIFS(Output!$N$3:$N$992,Output!$H$3:$H$992,H$3,Output!#REF!,1,Output!$F$3:$F$992,$A11),0)&"-"&ROUND(_xlfn.MAXIFS(Output!$N$3:$N$992,Output!$H$3:$H$992,H$3,Output!#REF!,1,Output!$F$3:$F$992,$A11),0)&"]","") | I11: =IFERROR(ROUND(AVERAGEIFS(Output!$N$3:$N$992,Output!$H$3:$H$992,I$3,Output!#REF!,1,Output!$F$3:$F$992,$A11),1)&" ["&ROUND(_xlfn.MINIFS(Output!$N$3:$N$992,Output!$H$3:$H$992,I$3,Output!#REF!,1,Output!$F$3:$F$992,$A11),1)&"-"&ROUND(_xlfn.MAXIFS(Output!$N$3:$N$992,Output!$H$3:$H$992,I$3,Output!#REF!,1,Output!$F$3:$F$992,$A11),1)&"]","") | J11: =IFERROR(ROUND(AVERAGEIFS(Output!$N$3:$N$992,Output!$H$3:$H$992,J$3,Output!#REF!,1,Output!$F$3:$F$992,$A11),1)&" ["&ROUND(_xlfn.MINIFS(Output!$N$3:$N$992,Output!$H$3:$H$992,J$3,Output!#REF!,1,Output!$F$3:$F$992,$A11),1)&"-"&ROUND(_xlfn.MAXIFS(Output!$N$3:$N$992,Output!$H$3:$H$992,J$3,Output!#REF!,1,Output!$F$3:$F$992,$A11),1)&"]","") | K11: =IFERROR(ROUND(AVERAGEIFS(Output!$N$3:$N$992,Output!$H$3:$H$992,K$3,Output!#REF!,1,Output!$F$3:$F$992,$A11),1)&" ["&ROUND(_xlfn.MINIFS(Output!$N$3:$N$992,Output!$H$3:$H$992,K$3,Output!#REF!,1,Output!$F$3:$F$992,$A11),1)&"-"&ROUND(_xlfn.MAXIFS(Output!$N$3:$N$992,Output!$H$3:$H$992,K$3,Output!#REF!,1,Output!$F$3:$F$992,$A11),1)&"]","") | L11: =IFERROR(ROUND(AVERAGEIFS(Output!$N$3:$N$992,Output!$H$3:$H$992,L$3,Output!#REF!,1,Output!$F$3:$F$992,$A11),1)&" ["&ROUND(_xlfn.MINIFS(Output!$N$3:$N$992,Output!$H$3:$H$992,L$3,Output!#REF!,1,Output!$F$3:$F$992,$A11),1)&"-"&ROUND(_xlfn.MAXIFS(Output!$N$3:$N$992,Output!$H$3:$H$992,L$3,Output!#REF!,1,Output!$F$3:$F$992,$A11),1)&"]","") | M11: =IFERROR(ROUND(AVERAGEIFS(Output!$N$3:$N$992,Output!$H$3:$H$992,M$3,Output!#REF!,1,Output!$F$3:$F$992,$A11),1)&" ["&ROUND(_xlfn.MINIFS(Output!$N$3:$N$992,Output!$H$3:$H$992,M$3,Output!#REF!,1,Output!$F$3:$F$992,$A11),1)&"-"&ROUND(_xlfn.MAXIFS(Output!$N$3:$N$992,Output!$H$3:$H$992,M$3,Output!#REF!,1,Output!$F$3:$F$992,$A11),1)&"]","") | N11: =IFERROR(ROUND(AVERAGEIFS(Output!$N$3:$N$992,Output!$H$3:$H$992,N$3,Output!#REF!,1,Output!$F$3:$F$992,$A11),1)&" ["&ROUND(_xlfn.MINIFS(Output!$N$3:$N$992,Output!$H$3:$H$992,N$3,Output!#REF!,1,Output!$F$3:$F$992,$A11),1)&"-"&ROUND(_xlfn.MAXIFS(Output!$N$3:$N$992,Output!$H$3:$H$992,N$3,Output!#REF!,1,Output!$F$3:$F$992,$A11),1)&"]","") | O11: =IFERROR(ROUND(AVERAGEIFS(Output!$N$3:$N$992,Output!$H$3:$H$992,O$3,Output!#REF!,1,Output!$F$3:$F$992,$A11),1)&" ["&ROUND(_xlfn.MINIFS(Output!$N$3:$N$992,Output!$H$3:$H$992,O$3,Output!#REF!,1,Output!$F$3:$F$992,$A11),1)&"-"&ROUND(_xlfn.MAXIFS(Output!$N$3:$N$992,Output!$H$3:$H$992,O$3,Output!#REF!,1,Output!$F$3:$F$992,$A11),1)&"]","") | P11: =IFERROR(ROUND(AVERAGEIFS(Output!$N$3:$N$992,Output!$H$3:$H$992,P$3,Output!#REF!,1,Output!$F$3:$F$992,$A11),1)&" ["&ROUND(_xlfn.MINIFS(Output!$N$3:$N$992,Output!$H$3:$H$992,P$3,Output!#REF!,1,Output!$F$3:$F$992,$A11),1)&"-"&ROUND(_xlfn.MAXIFS(Output!$N$3:$N$992,Output!$H$3:$H$992,P$3,Output!#REF!,1,Output!$F$3:$F$992,$A11),1)&"]","") | ... Z11: =IFERROR(ROUND(AVERAGEIFS(Output!$N$3:$N$992,Output!$H$3:$H$992,Z$3,Output!#REF!,1,Output!$F$3:$F$992,$A11),1)&" ["&ROUND(_xlfn.MINIFS(Output!$N$3:$N$992,Output!$H$3:$H$992,Z$3,Output!#REF!,1,Output!$F$3:$F$992,$A11),1)&"-"&ROUND(_xlfn.MAXIFS(Output!$N$3:$N$992,Output!$H$3:$H$992,Z$3,Output!#REF!,1,Output!$F$3:$F$992,$A11),1)&"]","") | AA11: =IFERROR(ROUND(AVERAGEIFS(Output!$N$3:$N$992,Output!$H$3:$H$992,AA$3,Output!#REF!,1,Output!$F$3:$F$992,$A11),0)&" ["&ROUND(_xlfn.MINIFS(Output!$N$3:$N$992,Output!$H$3:$H$992,AA$3,Output!#REF!,1,Output!$F$3:$F$992,$A11),0)&"-"&ROUND(_xlfn.MAXIFS(Output!$N$3:$N$992,Output!$H$3:$H$992,AA$3,Output!#REF!,1,Output!$F$3:$F$992,$A11),0)&"]","") | AB11: =IFERROR(ROUND(AVERAGEIFS(Output!$N$3:$N$992,Output!$H$3:$H$992,AB$3,Output!#REF!,1,Output!$F$3:$F$992,$A11),0)&" ["&ROUND(_xlfn.MINIFS(Output!$N$3:$N$992,Output!$H$3:$H$992,AB$3,Output!#REF!,1,Output!$F$3:$F$992,$A11),0)&"-"&ROUND(_xlfn.MAXIFS(Output!$N$3:$N$992,Output!$H$3:$H$992,AB$3,Output!#REF!,1,Output!$F$3:$F$992,$A11),0)&"]","") | AC11: =IFERROR(ROUND(AVERAGEIFS(Output!$N$3:$N$992,Output!$H$3:$H$992,AC$3,Output!#REF!,1,Output!$F$3:$F$992,$A11),0)&" ["&ROUND(_xlfn.MINIFS(Output!$N$3:$N$992,Output!$H$3:$H$992,AC$3,Output!#REF!,1,Output!$F$3:$F$992,$A11),0)&"-"&ROUND(_xlfn.MAXIFS(Output!$N$3:$N$992,Output!$H$3:$H$992,AC$3,Output!#REF!,1,Output!$F$3:$F$992,$A11),0)&"]","")
A12: South Asia | D12: =IFERROR(ROUND(AVERAGEIFS(Output!$N$3:$N$992,Output!$H$3:$H$992,D$3,Output!#REF!,1,Output!$F$3:$F$992,$A12),1)&" ["&ROUND(_xlfn.MINIFS(Output!$N$3:$N$992,Output!$H$3:$H$992,D$3,Output!#REF!,1,Output!$F$3:$F$992,$A12),1)&"-"&ROUND(_xlfn.MAXIFS(Output!$N$3:$N$992,Output!$H$3:$H$992,D$3,Output!#REF!,1,Output!$F$3:$F$992,$A12),1)&"]","") | E12: =IFERROR(ROUND(AVERAGEIFS(Output!$N$3:$N$992,Output!$H$3:$H$992,E$3,Output!#REF!,1,Output!$F$3:$F$992,$A12),1)&" ["&ROUND(_xlfn.MINIFS(Output!$N$3:$N$992,Output!$H$3:$H$992,E$3,Output!#REF!,1,Output!$F$3:$F$992,$A12),1)&"-"&ROUND(_xlfn.MAXIFS(Output!$N$3:$N$992,Output!$H$3:$H$992,E$3,Output!#REF!,1,Output!$F$3:$F$992,$A12),1)&"]","") | F12: =IFERROR(ROUND(AVERAGEIFS(Output!$N$3:$N$992,Output!$H$3:$H$992,F$3,Output!#REF!,1,Output!$F$3:$F$992,$A12),1)&" ["&ROUND(_xlfn.MINIFS(Output!$N$3:$N$992,Output!$H$3:$H$992,F$3,Output!#REF!,1,Output!$F$3:$F$992,$A12),1)&"-"&ROUND(_xlfn.MAXIFS(Output!$N$3:$N$992,Output!$H$3:$H$992,F$3,Output!#REF!,1,Output!$F$3:$F$992,$A12),1)&"]","") | G12: =IFERROR(ROUND(AVERAGEIFS(Output!$N$3:$N$992,Output!$H$3:$H$992,G$3,Output!#REF!,1,Output!$F$3:$F$992,$A12),0)&" ["&ROUND(_xlfn.MINIFS(Output!$N$3:$N$992,Output!$H$3:$H$992,G$3,Output!#REF!,1,Output!$F$3:$F$992,$A12),0)&"-"&ROUND(_xlfn.MAXIFS(Output!$N$3:$N$992,Output!$H$3:$H$992,G$3,Output!#REF!,1,Output!$F$3:$F$992,$A12),0)&"]","") | H12: =IFERROR(ROUND(AVERAGEIFS(Output!$N$3:$N$992,Output!$H$3:$H$992,H$3,Output!#REF!,1,Output!$F$3:$F$992,$A12),0)&" ["&ROUND(_xlfn.MINIFS(Output!$N$3:$N$992,Output!$H$3:$H$992,H$3,Output!#REF!,1,Output!$F$3:$F$992,$A12),0)&"-"&ROUND(_xlfn.MAXIFS(Output!$N$3:$N$992,Output!$H$3:$H$992,H$3,Output!#REF!,1,Output!$F$3:$F$992,$A12),0)&"]","") | I12: =IFERROR(ROUND(AVERAGEIFS(Output!$N$3:$N$992,Output!$H$3:$H$992,I$3,Output!#REF!,1,Output!$F$3:$F$992,$A12),1)&" ["&ROUND(_xlfn.MINIFS(Output!$N$3:$N$992,Output!$H$3:$H$992,I$3,Output!#REF!,1,Output!$F$3:$F$992,$A12),1)&"-"&ROUND(_xlfn.MAXIFS(Output!$N$3:$N$992,Output!$H$3:$H$992,I$3,Output!#REF!,1,Output!$F$3:$F$992,$A12),1)&"]","") | J12: =IFERROR(ROUND(AVERAGEIFS(Output!$N$3:$N$992,Output!$H$3:$H$992,J$3,Output!#REF!,1,Output!$F$3:$F$992,$A12),1)&" ["&ROUND(_xlfn.MINIFS(Output!$N$3:$N$992,Output!$H$3:$H$992,J$3,Output!#REF!,1,Output!$F$3:$F$992,$A12),1)&"-"&ROUND(_xlfn.MAXIFS(Output!$N$3:$N$992,Output!$H$3:$H$992,J$3,Output!#REF!,1,Output!$F$3:$F$992,$A12),1)&"]","") | K12: =IFERROR(ROUND(AVERAGEIFS(Output!$N$3:$N$992,Output!$H$3:$H$992,K$3,Output!#REF!,1,Output!$F$3:$F$992,$A12),1)&" ["&ROUND(_xlfn.MINIFS(Output!$N$3:$N$992,Output!$H$3:$H$992,K$3,Output!#REF!,1,Output!$F$3:$F$992,$A12),1)&"-"&ROUND(_xlfn.MAXIFS(Output!$N$3:$N$992,Output!$H$3:$H$992,K$3,Output!#REF!,1,Output!$F$3:$F$992,$A12),1)&"]","") | L12: =IFERROR(ROUND(AVERAGEIFS(Output!$N$3:$N$992,Output!$H$3:$H$992,L$3,Output!#REF!,1,Output!$F$3:$F$992,$A12),1)&" ["&ROUND(_xlfn.MINIFS(Output!$N$3:$N$992,Output!$H$3:$H$992,L$3,Output!#REF!,1,Output!$F$3:$F$992,$A12),1)&"-"&ROUND(_xlfn.MAXIFS(Output!$N$3:$N$992,Output!$H$3:$H$992,L$3,Output!#REF!,1,Output!$F$3:$F$992,$A12),1)&"]","") | M12: =IFERROR(ROUND(AVERAGEIFS(Output!$N$3:$N$992,Output!$H$3:$H$992,M$3,Output!#REF!,1,Output!$F$3:$F$992,$A12),1)&" ["&ROUND(_xlfn.MINIFS(Output!$N$3:$N$992,Output!$H$3:$H$992,M$3,Output!#REF!,1,Output!$F$3:$F$992,$A12),1)&"-"&ROUND(_xlfn.MAXIFS(Output!$N$3:$N$992,Output!$H$3:$H$992,M$3,Output!#REF!,1,Output!$F$3:$F$992,$A12),1)&"]","") | N12: =IFERROR(ROUND(AVERAGEIFS(Output!$N$3:$N$992,Output!$H$3:$H$992,N$3,Output!#REF!,1,Output!$F$3:$F$992,$A12),1)&" ["&ROUND(_xlfn.MINIFS(Output!$N$3:$N$992,Output!$H$3:$H$992,N$3,Output!#REF!,1,Output!$F$3:$F$992,$A12),1)&"-"&ROUND(_xlfn.MAXIFS(Output!$N$3:$N$992,Output!$H$3:$H$992,N$3,Output!#REF!,1,Output!$F$3:$F$992,$A12),1)&"]","") | O12: =IFERROR(ROUND(AVERAGEIFS(Output!$N$3:$N$992,Output!$H$3:$H$992,O$3,Output!#REF!,1,Output!$F$3:$F$992,$A12),1)&" ["&ROUND(_xlfn.MINIFS(Output!$N$3:$N$992,Output!$H$3:$H$992,O$3,Output!#REF!,1,Output!$F$3:$F$992,$A12),1)&"-"&ROUND(_xlfn.MAXIFS(Output!$N$3:$N$992,Output!$H$3:$H$992,O$3,Output!#REF!,1,Output!$F$3:$F$992,$A12),1)&"]","") | P12: =IFERROR(ROUND(AVERAGEIFS(Output!$N$3:$N$992,Output!$H$3:$H$992,P$3,Output!#REF!,1,Output!$F$3:$F$992,$A12),1)&" ["&ROUND(_xlfn.MINIFS(Output!$N$3:$N$992,Output!$H$3:$H$992,P$3,Output!#REF!,1,Output!$F$3:$F$992,$A12),1)&"-"&ROUND(_xlfn.MAXIFS(Output!$N$3:$N$992,Output!$H$3:$H$992,P$3,Output!#REF!,1,Output!$F$3:$F$992,$A12),1)&"]","") | ... Z12: =IFERROR(ROUND(AVERAGEIFS(Output!$N$3:$N$992,Output!$H$3:$H$992,Z$3,Output!#REF!,1,Output!$F$3:$F$992,$A12),1)&" ["&ROUND(_xlfn.MINIFS(Output!$N$3:$N$992,Output!$H$3:$H$992,Z$3,Output!#REF!,1,Output!$F$3:$F$992,$A12),1)&"-"&ROUND(_xlfn.MAXIFS(Output!$N$3:$N$992,Output!$H$3:$H$992,Z$3,Output!#REF!,1,Output!$F$3:$F$992,$A12),1)&"]","") | AA12: =IFERROR(ROUND(AVERAGEIFS(Output!$N$3:$N$992,Output!$H$3:$H$992,AA$3,Output!#REF!,1,Output!$F$3:$F$992,$A12),0)&" ["&ROUND(_xlfn.MINIFS(Output!$N$3:$N$992,Output!$H$3:$H$992,AA$3,Output!#REF!,1,Output!$F$3:$F$992,$A12),0)&"-"&ROUND(_xlfn.MAXIFS(Output!$N$3:$N$992,Output!$H$3:$H$992,AA$3,Output!#REF!,1,Output!$F$3:$F$992,$A12),0)&"]","") | AB12: =IFERROR(ROUND(AVERAGEIFS(Output!$N$3:$N$992,Output!$H$3:$H$992,AB$3,Output!#REF!,1,Output!$F$3:$F$992,$A12),0)&" ["&ROUND(_xlfn.MINIFS(Output!$N$3:$N$992,Output!$H$3:$H$992,AB$3,Output!#REF!,1,Output!$F$3:$F$992,$A12),0)&"-"&ROUND(_xlfn.MAXIFS(Output!$N$3:$N$992,Output!$H$3:$H$992,AB$3,Output!#REF!,1,Output!$F$3:$F$992,$A12),0)&"]","") | AC12: =IFERROR(ROUND(AVERAGEIFS(Output!$N$3:$N$992,Output!$H$3:$H$992,AC$3,Output!#REF!,1,Output!$F$3:$F$992,$A12),0)&" ["&ROUND(_xlfn.MINIFS(Output!$N$3:$N$992,Output!$H$3:$H$992,AC$3,Output!#REF!,1,Output!$F$3:$F$992,$A12),0)&"-"&ROUND(_xlfn.MAXIFS(Output!$N$3:$N$992,Output!$H$3:$H$992,AC$3,Output!#REF!,1,Output!$F$3:$F$992,$A12),0)&"]","")
A13: Pacific | D13: =IFERROR(ROUND(AVERAGEIFS(Output!$N$3:$N$992,Output!$H$3:$H$992,D$3,Output!#REF!,1,Output!$F$3:$F$992,$A13),1)&" ["&ROUND(_xlfn.MINIFS(Output!$N$3:$N$992,Output!$H$3:$H$992,D$3,Output!#REF!,1,Output!$F$3:$F$992,$A13),1)&"-"&ROUND(_xlfn.MAXIFS(Output!$N$3:$N$992,Output!$H$3:$H$992,D$3,Output!#REF!,1,Output!$F$3:$F$992,$A13),1)&"]","") | E13: =IFERROR(ROUND(AVERAGEIFS(Output!$N$3:$N$992,Output!$H$3:$H$992,E$3,Output!#REF!,1,Output!$F$3:$F$992,$A13),1)&" ["&ROUND(_xlfn.MINIFS(Output!$N$3:$N$992,Output!$H$3:$H$992,E$3,Output!#REF!,1,Output!$F$3:$F$992,$A13),1)&"-"&ROUND(_xlfn.MAXIFS(Output!$N$3:$N$992,Output!$H$3:$H$992,E$3,Output!#REF!,1,Output!$F$3:$F$992,$A13),1)&"]","") | F13: =IFERROR(ROUND(AVERAGEIFS(Output!$N$3:$N$992,Output!$H$3:$H$992,F$3,Output!#REF!,1,Output!$F$3:$F$992,$A13),1)&" ["&ROUND(_xlfn.MINIFS(Output!$N$3:$N$992,Output!$H$3:$H$992,F$3,Output!#REF!,1,Output!$F$3:$F$992,$A13),1)&"-"&ROUND(_xlfn.MAXIFS(Output!$N$3:$N$992,Output!$H$3:$H$992,F$3,Output!#REF!,1,Output!$F$3:$F$992,$A13),1)&"]","") | G13: =IFERROR(ROUND(AVERAGEIFS(Output!$N$3:$N$992,Output!$H$3:$H$992,G$3,Output!#REF!,1,Output!$F$3:$F$992,$A13),0)&" ["&ROUND(_xlfn.MINIFS(Output!$N$3:$N$992,Output!$H$3:$H$992,G$3,Output!#REF!,1,Output!$F$3:$F$992,$A13),0)&"-"&ROUND(_xlfn.MAXIFS(Output!$N$3:$N$992,Output!$H$3:$H$992,G$3,Output!#REF!,1,Output!$F$3:$F$992,$A13),0)&"]","") | H13: =IFERROR(ROUND(AVERAGEIFS(Output!$N$3:$N$992,Output!$H$3:$H$992,H$3,Output!#REF!,1,Output!$F$3:$F$992,$A13),0)&" ["&ROUND(_xlfn.MINIFS(Output!$N$3:$N$992,Output!$H$3:$H$992,H$3,Output!#REF!,1,Output!$F$3:$F$992,$A13),0)&"-"&ROUND(_xlfn.MAXIFS(Output!$N$3:$N$992,Output!$H$3:$H$992,H$3,Output!#REF!,1,Output!$F$3:$F$992,$A13),0)&"]","") | I13: =IFERROR(ROUND(AVERAGEIFS(Output!$N$3:$N$992,Output!$H$3:$H$992,I$3,Output!#REF!,1,Output!$F$3:$F$992,$A13),1)&" ["&ROUND(_xlfn.MINIFS(Output!$N$3:$N$992,Output!$H$3:$H$992,I$3,Output!#REF!,1,Output!$F$3:$F$992,$A13),1)&"-"&ROUND(_xlfn.MAXIFS(Output!$N$3:$N$992,Output!$H$3:$H$992,I$3,Output!#REF!,1,Output!$F$3:$F$992,$A13),1)&"]","") | J13: =IFERROR(ROUND(AVERAGEIFS(Output!$N$3:$N$992,Output!$H$3:$H$992,J$3,Output!#REF!,1,Output!$F$3:$F$992,$A13),1)&" ["&ROUND(_xlfn.MINIFS(Output!$N$3:$N$992,Output!$H$3:$H$992,J$3,Output!#REF!,1,Output!$F$3:$F$992,$A13),1)&"-"&ROUND(_xlfn.MAXIFS(Output!$N$3:$N$992,Output!$H$3:$H$992,J$3,Output!#REF!,1,Output!$F$3:$F$992,$A13),1)&"]","") | K13: =IFERROR(ROUND(AVERAGEIFS(Output!$N$3:$N$992,Output!$H$3:$H$992,K$3,Output!#REF!,1,Output!$F$3:$F$992,$A13),1)&" ["&ROUND(_xlfn.MINIFS(Output!$N$3:$N$992,Output!$H$3:$H$992,K$3,Output!#REF!,1,Output!$F$3:$F$992,$A13),1)&"-"&ROUND(_xlfn.MAXIFS(Output!$N$3:$N$992,Output!$H$3:$H$992,K$3,Output!#REF!,1,Output!$F$3:$F$992,$A13),1)&"]","") | L13: =IFERROR(ROUND(AVERAGEIFS(Output!$N$3:$N$992,Output!$H$3:$H$992,L$3,Output!#REF!,1,Output!$F$3:$F$992,$A13),1)&" ["&ROUND(_xlfn.MINIFS(Output!$N$3:$N$992,Output!$H$3:$H$992,L$3,Output!#REF!,1,Output!$F$3:$F$992,$A13),1)&"-"&ROUND(_xlfn.MAXIFS(Output!$N$3:$N$992,Output!$H$3:$H$992,L$3,Output!#REF!,1,Output!$F$3:$F$992,$A13),1)&"]","") | M13: =IFERROR(ROUND(AVERAGEIFS(Output!$N$3:$N$992,Output!$H$3:$H$992,M$3,Output!#REF!,1,Output!$F$3:$F$992,$A13),1)&" ["&ROUND(_xlfn.MINIFS(Output!$N$3:$N$992,Output!$H$3:$H$992,M$3,Output!#REF!,1,Output!$F$3:$F$992,$A13),1)&"-"&ROUND(_xlfn.MAXIFS(Output!$N$3:$N$992,Output!$H$3:$H$992,M$3,Output!#REF!,1,Output!$F$3:$F$992,$A13),1)&"]","") | N13: =IFERROR(ROUND(AVERAGEIFS(Output!$N$3:$N$992,Output!$H$3:$H$992,N$3,Output!#REF!,1,Output!$F$3:$F$992,$A13),1)&" ["&ROUND(_xlfn.MINIFS(Output!$N$3:$N$992,Output!$H$3:$H$992,N$3,Output!#REF!,1,Output!$F$3:$F$992,$A13),1)&"-"&ROUND(_xlfn.MAXIFS(Output!$N$3:$N$992,Output!$H$3:$H$992,N$3,Output!#REF!,1,Output!$F$3:$F$992,$A13),1)&"]","") | O13: =IFERROR(ROUND(AVERAGEIFS(Output!$N$3:$N$992,Output!$H$3:$H$992,O$3,Output!#REF!,1,Output!$F$3:$F$992,$A13),1)&" ["&ROUND(_xlfn.MINIFS(Output!$N$3:$N$992,Output!$H$3:$H$992,O$3,Output!#REF!,1,Output!$F$3:$F$992,$A13),1)&"-"&ROUND(_xlfn.MAXIFS(Output!$N$3:$N$992,Output!$H$3:$H$992,O$3,Output!#REF!,1,Output!$F$3:$F$992,$A13),1)&"]","") | P13: =IFERROR(ROUND(AVERAGEIFS(Output!$N$3:$N$992,Output!$H$3:$H$992,P$3,Output!#REF!,1,Output!$F$3:$F$992,$A13),1)&" ["&ROUND(_xlfn.MINIFS(Output!$N$3:$N$992,Output!$H$3:$H$992,P$3,Output!#REF!,1,Output!$F$3:$F$992,$A13),1)&"-"&ROUND(_xlfn.MAXIFS(Output!$N$3:$N$992,Output!$H$3:$H$992,P$3,Output!#REF!,1,Output!$F$3:$F$992,$A13),1)&"]","") | ... Z13: =IFERROR(ROUND(AVERAGEIFS(Output!$N$3:$N$992,Output!$H$3:$H$992,Z$3,Output!#REF!,1,Output!$F$3:$F$992,$A13),1)&" ["&ROUND(_xlfn.MINIFS(Output!$N$3:$N$992,Output!$H$3:$H$992,Z$3,Output!#REF!,1,Output!$F$3:$F$992,$A13),1)&"-"&ROUND(_xlfn.MAXIFS(Output!$N$3:$N$992,Output!$H$3:$H$992,Z$3,Output!#REF!,1,Output!$F$3:$F$992,$A13),1)&"]","") | AA13: =IFERROR(ROUND(AVERAGEIFS(Output!$N$3:$N$992,Output!$H$3:$H$992,AA$3,Output!#REF!,1,Output!$F$3:$F$992,$A13),0)&" ["&ROUND(_xlfn.MINIFS(Output!$N$3:$N$992,Output!$H$3:$H$992,AA$3,Output!#REF!,1,Output!$F$3:$F$992,$A13),0)&"-"&ROUND(_xlfn.MAXIFS(Output!$N$3:$N$992,Output!$H$3:$H$992,AA$3,Output!#REF!,1,Output!$F$3:$F$992,$A13),0)&"]","") | AB13: =IFERROR(ROUND(AVERAGEIFS(Output!$N$3:$N$992,Output!$H$3:$H$992,AB$3,Output!#REF!,1,Output!$F$3:$F$992,$A13),0)&" ["&ROUND(_xlfn.MINIFS(Output!$N$3:$N$992,Output!$H$3:$H$992,AB$3,Output!#REF!,1,Output!$F$3:$F$992,$A13),0)&"-"&ROUND(_xlfn.MAXIFS(Output!$N$3:$N$992,Output!$H$3:$H$992,AB$3,Output!#REF!,1,Output!$F$3:$F$992,$A13),0)&"]","") | AC13: =IFERROR(ROUND(AVERAGEIFS(Output!$N$3:$N$992,Output!$H$3:$H$992,AC$3,Output!#REF!,1,Output!$F$3:$F$992,$A13),0)&" ["&ROUND(_xlfn.MINIFS(Output!$N$3:$N$992,Output!$H$3:$H$992,AC$3,Output!#REF!,1,Output!$F$3:$F$992,$A13),0)&"-"&ROUND(_xlfn.MAXIFS(Output!$N$3:$N$992,Output!$H$3:$H$992,AC$3,Output!#REF!,1,Output!$F$3:$F$992,$A13),0)&"]","")
A14: Central and West Asia | D14: =IFERROR(ROUND(AVERAGEIFS(Output!$N$3:$N$992,Output!$H$3:$H$992,D$3,Output!#REF!,1,Output!$F$3:$F$992,$A14),1)&" ["&ROUND(_xlfn.MINIFS(Output!$N$3:$N$992,Output!$H$3:$H$992,D$3,Output!#REF!,1,Output!$F$3:$F$992,$A14),1)&"-"&ROUND(_xlfn.MAXIFS(Output!$N$3:$N$992,Output!$H$3:$H$992,D$3,Output!#REF!,1,Output!$F$3:$F$992,$A14),1)&"]","") | E14: =IFERROR(ROUND(AVERAGEIFS(Output!$N$3:$N$992,Output!$H$3:$H$992,E$3,Output!#REF!,1,Output!$F$3:$F$992,$A14),1)&" ["&ROUND(_xlfn.MINIFS(Output!$N$3:$N$992,Output!$H$3:$H$992,E$3,Output!#REF!,1,Output!$F$3:$F$992,$A14),1)&"-"&ROUND(_xlfn.MAXIFS(Output!$N$3:$N$992,Output!$H$3:$H$992,E$3,Output!#REF!,1,Output!$F$3:$F$992,$A14),1)&"]","") | F14: =IFERROR(ROUND(AVERAGEIFS(Output!$N$3:$N$992,Output!$H$3:$H$992,F$3,Output!#REF!,1,Output!$F$3:$F$992,$A14),1)&" ["&ROUND(_xlfn.MINIFS(Output!$N$3:$N$992,Output!$H$3:$H$992,F$3,Output!#REF!,1,Output!$F$3:$F$992,$A14),1)&"-"&ROUND(_xlfn.MAXIFS(Output!$N$3:$N$992,Output!$H$3:$H$992,F$3,Output!#REF!,1,Output!$F$3:$F$992,$A14),1)&"]","") | G14: =IFERROR(ROUND(AVERAGEIFS(Output!$N$3:$N$992,Output!$H$3:$H$992,G$3,Output!#REF!,1,Output!$F$3:$F$992,$A14),0)&" ["&ROUND(_xlfn.MINIFS(Output!$N$3:$N$992,Output!$H$3:$H$992,G$3,Output!#REF!,1,Output!$F$3:$F$992,$A14),0)&"-"&ROUND(_xlfn.MAXIFS(Output!$N$3:$N$992,Output!$H$3:$H$992,G$3,Output!#REF!,1,Output!$F$3:$F$992,$A14),0)&"]","") | H14: =IFERROR(ROUND(AVERAGEIFS(Output!$N$3:$N$992,Output!$H$3:$H$992,H$3,Output!#REF!,1,Output!$F$3:$F$992,$A14),0)&" ["&ROUND(_xlfn.MINIFS(Output!$N$3:$N$992,Output!$H$3:$H$992,H$3,Output!#REF!,1,Output!$F$3:$F$992,$A14),0)&"-"&ROUND(_xlfn.MAXIFS(Output!$N$3:$N$992,Output!$H$3:$H$992,H$3,Output!#REF!,1,Output!$F$3:$F$992,$A14),0)&"]","") | I14: =IFERROR(ROUND(AVERAGEIFS(Output!$N$3:$N$992,Output!$H$3:$H$992,I$3,Output!#REF!,1,Output!$F$3:$F$992,$A14),1)&" ["&ROUND(_xlfn.MINIFS(Output!$N$3:$N$992,Output!$H$3:$H$992,I$3,Output!#REF!,1,Output!$F$3:$F$992,$A14),1)&"-"&ROUND(_xlfn.MAXIFS(Output!$N$3:$N$992,Output!$H$3:$H$992,I$3,Output!#REF!,1,Output!$F$3:$F$992,$A14),1)&"]","") | J14: =IFERROR(ROUND(AVERAGEIFS(Output!$N$3:$N$992,Output!$H$3:$H$992,J$3,Output!#REF!,1,Output!$F$3:$F$992,$A14),1)&" ["&ROUND(_xlfn.MINIFS(Output!$N$3:$N$992,Output!$H$3:$H$992,J$3,Output!#REF!,1,Output!$F$3:$F$992,$A14),1)&"-"&ROUND(_xlfn.MAXIFS(Output!$N$3:$N$992,Output!$H$3:$H$992,J$3,Output!#REF!,1,Output!$F$3:$F$992,$A14),1)&"]","") | K14: =IFERROR(ROUND(AVERAGEIFS(Output!$N$3:$N$992,Output!$H$3:$H$992,K$3,Output!#REF!,1,Output!$F$3:$F$992,$A14),1)&" ["&ROUND(_xlfn.MINIFS(Output!$N$3:$N$992,Output!$H$3:$H$992,K$3,Output!#REF!,1,Output!$F$3:$F$992,$A14),1)&"-"&ROUND(_xlfn.MAXIFS(Output!$N$3:$N$992,Output!$H$3:$H$992,K$3,Output!#REF!,1,Output!$F$3:$F$992,$A14),1)&"]","") | L14: =IFERROR(ROUND(AVERAGEIFS(Output!$N$3:$N$992,Output!$H$3:$H$992,L$3,Output!#REF!,1,Output!$F$3:$F$992,$A14),1)&" ["&ROUND(_xlfn.MINIFS(Output!$N$3:$N$992,Output!$H$3:$H$992,L$3,Output!#REF!,1,Output!$F$3:$F$992,$A14),1)&"-"&ROUND(_xlfn.MAXIFS(Output!$N$3:$N$992,Output!$H$3:$H$992,L$3,Output!#REF!,1,Output!$F$3:$F$992,$A14),1)&"]","") | M14: =IFERROR(ROUND(AVERAGEIFS(Output!$N$3:$N$992,Output!$H$3:$H$992,M$3,Output!#REF!,1,Output!$F$3:$F$992,$A14),1)&" ["&ROUND(_xlfn.MINIFS(Output!$N$3:$N$992,Output!$H$3:$H$992,M$3,Output!#REF!,1,Output!$F$3:$F$992,$A14),1)&"-"&ROUND(_xlfn.MAXIFS(Output!$N$3:$N$992,Output!$H$3:$H$992,M$3,Output!#REF!,1,Output!$F$3:$F$992,$A14),1)&"]","") | N14: =IFERROR(ROUND(AVERAGEIFS(Output!$N$3:$N$992,Output!$H$3:$H$992,N$3,Output!#REF!,1,Output!$F$3:$F$992,$A14),1)&" ["&ROUND(_xlfn.MINIFS(Output!$N$3:$N$992,Output!$H$3:$H$992,N$3,Output!#REF!,1,Output!$F$3:$F$992,$A14),1)&"-"&ROUND(_xlfn.MAXIFS(Output!$N$3:$N$992,Output!$H$3:$H$992,N$3,Output!#REF!,1,Output!$F$3:$F$992,$A14),1)&"]","") | O14: =IFERROR(ROUND(AVERAGEIFS(Output!$N$3:$N$992,Output!$H$3:$H$992,O$3,Output!#REF!,1,Output!$F$3:$F$992,$A14),1)&" ["&ROUND(_xlfn.MINIFS(Output!$N$3:$N$992,Output!$H$3:$H$992,O$3,Output!#REF!,1,Output!$F$3:$F$992,$A14),1)&"-"&ROUND(_xlfn.MAXIFS(Output!$N$3:$N$992,Output!$H$3:$H$992,O$3,Output!#REF!,1,Output!$F$3:$F$992,$A14),1)&"]","") | P14: =IFERROR(ROUND(AVERAGEIFS(Output!$N$3:$N$992,Output!$H$3:$H$992,P$3,Output!#REF!,1,Output!$F$3:$F$992,$A14),1)&" ["&ROUND(_xlfn.MINIFS(Output!$N$3:$N$992,Output!$H$3:$H$992,P$3,Output!#REF!,1,Output!$F$3:$F$992,$A14),1)&"-"&ROUND(_xlfn.MAXIFS(Output!$N$3:$N$992,Output!$H$3:$H$992,P$3,Output!#REF!,1,Output!$F$3:$F$992,$A14),1)&"]","") | ... Z14: =IFERROR(ROUND(AVERAGEIFS(Output!$N$3:$N$992,Output!$H$3:$H$992,Z$3,Output!#REF!,1,Output!$F$3:$F$992,$A14),1)&" ["&ROUND(_xlfn.MINIFS(Output!$N$3:$N$992,Output!$H$3:$H$992,Z$3,Output!#REF!,1,Output!$F$3:$F$992,$A14),1)&"-"&ROUND(_xlfn.MAXIFS(Output!$N$3:$N$992,Output!$H$3:$H$992,Z$3,Output!#REF!,1,Output!$F$3:$F$992,$A14),1)&"]","") | AA14: =IFERROR(ROUND(AVERAGEIFS(Output!$N$3:$N$992,Output!$H$3:$H$992,AA$3,Output!#REF!,1,Output!$F$3:$F$992,$A14),0)&" ["&ROUND(_xlfn.MINIFS(Output!$N$3:$N$992,Output!$H$3:$H$992,AA$3,Output!#REF!,1,Output!$F$3:$F$992,$A14),0)&"-"&ROUND(_xlfn.MAXIFS(Output!$N$3:$N$992,Output!$H$3:$H$992,AA$3,Output!#REF!,1,Output!$F$3:$F$992,$A14),0)&"]","") | AB14: =IFERROR(ROUND(AVERAGEIFS(Output!$N$3:$N$992,Output!$H$3:$H$992,AB$3,Output!#REF!,1,Output!$F$3:$F$992,$A14),0)&" ["&ROUND(_xlfn.MINIFS(Output!$N$3:$N$992,Output!$H$3:$H$992,AB$3,Output!#REF!,1,Output!$F$3:$F$992,$A14),0)&"-"&ROUND(_xlfn.MAXIFS(Output!$N$3:$N$992,Output!$H$3:$H$992,AB$3,Output!#REF!,1,Output!$F$3:$F$992,$A14),0)&"]","") | AC14: =IFERROR(ROUND(AVERAGEIFS(Output!$N$3:$N$992,Output!$H$3:$H$992,AC$3,Output!#REF!,1,Output!$F$3:$F$992,$A14),0)&" ["&ROUND(_xlfn.MINIFS(Output!$N$3:$N$992,Output!$H$3:$H$992,AC$3,Output!#REF!,1,Output!$F$3:$F$992,$A14),0)&"-"&ROUND(_xlfn.MAXIFS(Output!$N$3:$N$992,Output!$H$3:$H$992,AC$3,Output!#REF!,1,Output!$F$3:$F$992,$A14),0)&"]","")
A16: AVERAGE
